BEGIN:VCALENDAR
VERSION:2.0
PRODID:-//Nature Calgary - ECPv6.15.20//NONSGML v1.0//EN
CALSCALE:GREGORIAN
METHOD:PUBLISH
X-WR-CALNAME:Nature Calgary
X-ORIGINAL-URL:https://naturecalgary.com
X-WR-CALDESC:Events for Nature Calgary
REFRESH-INTERVAL;VALUE=DURATION:PT1H
X-Robots-Tag:noindex
X-PUBLISHED-TTL:PT1H
BEGIN:VTIMEZONE
TZID:America/Edmonton
BEGIN:DAYLIGHT
TZOFFSETFROM:-0700
TZOFFSETTO:-0600
TZNAME:MDT
DTSTART:20220313T090000
END:DAYLIGHT
BEGIN:STANDARD
TZOFFSETFROM:-0600
TZOFFSETTO:-0700
TZNAME:MST
DTSTART:20221106T080000
END:STANDARD
BEGIN:DAYLIGHT
TZOFFSETFROM:-0700
TZOFFSETTO:-0600
TZNAME:MDT
DTSTART:20230312T090000
END:DAYLIGHT
BEGIN:STANDARD
TZOFFSETFROM:-0600
TZOFFSETTO:-0700
TZNAME:MST
DTSTART:20231105T080000
END:STANDARD
BEGIN:DAYLIGHT
TZOFFSETFROM:-0700
TZOFFSETTO:-0600
TZNAME:MDT
DTSTART:20240310T090000
END:DAYLIGHT
BEGIN:STANDARD
TZOFFSETFROM:-0600
TZOFFSETTO:-0700
TZNAME:MST
DTSTART:20241103T080000
END:STANDARD
BEGIN:DAYLIGHT
TZOFFSETFROM:-0700
TZOFFSETTO:-0600
TZNAME:MDT
DTSTART:20250309T090000
END:DAYLIGHT
BEGIN:STANDARD
TZOFFSETFROM:-0600
TZOFFSETTO:-0700
TZNAME:MST
DTSTART:20251102T080000
END:STANDARD
BEGIN:DAYLIGHT
TZOFFSETFROM:-0700
TZOFFSETTO:-0600
TZNAME:MDT
DTSTART:20260308T090000
END:DAYLIGHT
BEGIN:STANDARD
TZOFFSETFROM:-0600
TZOFFSETTO:-0700
TZNAME:MST
DTSTART:20261101T080000
END:STANDARD
END:VTIMEZONE
BEGIN:VEVENT
DTSTART;TZID=America/Edmonton:20250819T213000
DTEND;TZID=America/Edmonton:20250819T233000
DTSTAMP:20260420T053358
CREATED:20250812T204032Z
LAST-MODIFIED:20250816T015117Z
UID:10001064-1755639000-1755646200@naturecalgary.com
SUMMARY:Bat and Moth Night
DESCRIPTION:Welcome to the Bat & Moth Night event! Join us on August 19\, 2025 at 9:30 PM for a night of fascinating creatures. We’ll be exploring the mysterious world of bats and moths in a fun and educational setting. \nGet ready to witness these nocturnal wonders up close and learn all about their unique behaviors. Whether you’re a nature enthusiast or just curious about these creatures\, this event is perfect for all ages. \nDon’t miss out on this exciting opportunity to discover the beauty of Bat & Moth species in their natural habitat. Grab your friends and family\, and join us for an unforgettable night under the stars! \nLocation: Canyon Meadows (specific location will be provided to those who register through Evenbrite) \nhttps://www.eventbrite.ca/e/bat-moth-night-tickets-1582986849279?aff=oddtdtcreator \n 
URL:https://naturecalgary.com/event/bat-and-moth-night/
CATEGORIES:Field Trips,Nature Calgary,Special Trips
END:VEVENT
BEGIN:VEVENT
DTSTART;TZID=America/Edmonton:20240715T080000
DTEND;TZID=America/Edmonton:20240715T120000
DTSTAMP:20260420T053358
CREATED:20240703T172604Z
LAST-MODIFIED:20240703T172706Z
UID:10000923-1721030400-1721044800@naturecalgary.com
SUMMARY:West Bragg Creek
DESCRIPTION:We will bird some of the trails in the West Bragg Creek PRA. The pathways are unpaved and have exposed roots and rocks. Please wear suitable footwear for the pathways. This walk is suitable for all ages and all birding abilities. \nPlease meet at the SNOWSHOE HARE TRAIL ENTRANCE in the West Bragg Creek Parking lot: https://goo.gl/maps/Guw93RfKHdYrV6F78 \nPLEASE NOTE THAT YOU WILL NEED A KANANASKIS CONSERVATION PASS TO PARK HERE. YOU CAN GET ONE HERE: https://www.alberta.ca/kananaskis-conservation-pass.aspx
URL:https://naturecalgary.com/event/west-bragg-creek-6/
CATEGORIES:Field Trips
END:VEVENT
BEGIN:VEVENT
DTSTART;TZID=America/Edmonton:20240711T080000
DTEND;TZID=America/Edmonton:20240711T130000
DTSTAMP:20260420T053358
CREATED:20240703T171857Z
LAST-MODIFIED:20240703T172345Z
UID:10000922-1720684800-1720702800@naturecalgary.com
SUMMARY:Frank Lake
DESCRIPTION:We will visit Frank Lake to see the what birds are calling Frank Lake home over the summer. There should be some good shorebird viewing. We will try to visit a few basins to see what’s in the other areas.
URL:https://naturecalgary.com/event/frank-lake-12/
LOCATION:Frank Lake\, Alberta\, Canada
CATEGORIES:Field Trips
GEO:50.565158;-113.717183
END:VEVENT
BEGIN:VEVENT
DTSTART;TZID=America/Edmonton:20240710T190000
DTEND;TZID=America/Edmonton:20240710T190000
DTSTAMP:20260420T053358
CREATED:20240703T170345Z
LAST-MODIFIED:20240703T171653Z
UID:10000921-1720638000-1720638000@naturecalgary.com
SUMMARY:Plant Noticers' Club at Nose Hill
DESCRIPTION:Meet at Nose Hill Parking Lot on 14th Street & 64th Ave (https://maps.app.goo.gl/3LNKmh5PMjrXpmq47). NO REGISTRATION REQUIRED.
URL:https://naturecalgary.com/event/plant-noticers-club-at-nose-hill/
LOCATION:Nose Hill – 64 Ave and 14 St Parking Lot\, 6465 14 St NW\, Calgary\, Alberta\, T2K 5R2\, Canada
CATEGORIES:Field Trips
GEO:51.1087389;-114.0843735
X-APPLE-STRUCTURED-LOCATION;VALUE=URI;X-ADDRESS=Nose Hill – 64 Ave and 14 St Parking Lot 6465 14 St NW Calgary Alberta T2K 5R2 Canada;X-APPLE-RADIUS=500;X-TITLE=6465 14 St NW:geo:-114.0843735,51.1087389
END:VEVENT
BEGIN:VEVENT
DTSTART;TZID=America/Edmonton:20240628T213000
DTEND;TZID=America/Edmonton:20240628T213000
DTSTAMP:20260420T053358
CREATED:20240529T050841Z
LAST-MODIFIED:20240529T050916Z
UID:10000900-1719610200-1719610200@naturecalgary.com
SUMMARY:St. Patrick’s Island Birding
DESCRIPTION:Join Nature Calgary for a bird walk on St. Patrick’s Island on June 28\, 2024 and observe the fascinating variety of birds found in their natural habitat. Birds have been back for a few months and have started to have their young. We’ll see our Osprey on their nest plus we’re hoping to see the Kestrels back again for another year. We hope to see and hear our house wrens\, yellow warblers\, and red-winged blackbirds. We’ll look for tracks\, old nests\, and maybe even spot one of the beavers or mink that frequent the Island! Our knowledgeable guide will share fascinating insights about the birds and other wildlife you encounter and and talk about their behaviours\, making this a great educational opportunity for nature enthusiasts of all ages. We will have binoculars available for participants who don’t have them. Space is limited so don’t miss your chance to discover the beauty and diversity of Calgary’s birdlife on this exciting nature walk! These walks are presented in partnership between East Village and Nature Calgary\, with all registration fees being donated directly to Nature Calgary. All walks will start and end at the East Village Headquarters\, located directly north of 656 Confluence Way SE on the RiverWalk pathway.
URL:https://naturecalgary.com/event/st-patricks-island-birding-3/
CATEGORIES:Field Trips
END:VEVENT
BEGIN:VEVENT
DTSTART;TZID=America/Edmonton:20240626T190000
DTEND;TZID=America/Edmonton:20240626T190000
DTSTAMP:20260420T053358
CREATED:20240529T050139Z
LAST-MODIFIED:20240529T050418Z
UID:10000899-1719428400-1719428400@naturecalgary.com
SUMMARY:Plant Noticers Club – Nose Hill
DESCRIPTION:We’ll be looking for plants in Nose Hill. Meet at 14th Street and 64th Ave Entrance. If you have a plant identification book please bring it.
URL:https://naturecalgary.com/event/plant-noticers-club-nose-hill/
LOCATION:Nose Hill – 64 Ave and 14 St Parking Lot\, 6465 14 St NW\, Calgary\, Alberta\, T2K 5R2\, Canada
CATEGORIES:Field Trips
GEO:51.1087389;-114.0843735
X-APPLE-STRUCTURED-LOCATION;VALUE=URI;X-ADDRESS=Nose Hill – 64 Ave and 14 St Parking Lot 6465 14 St NW Calgary Alberta T2K 5R2 Canada;X-APPLE-RADIUS=500;X-TITLE=6465 14 St NW:geo:-114.0843735,51.1087389
END:VEVENT
BEGIN:VEVENT
DTSTART;TZID=America/Edmonton:20240620T090000
DTEND;TZID=America/Edmonton:20240620T120000
DTSTAMP:20260420T053358
CREATED:20240529T045011Z
LAST-MODIFIED:20240529T045011Z
UID:10000898-1718874000-1718884800@naturecalgary.com
SUMMARY:Brown Lowrey PP
DESCRIPTION:This beautiful forested area provides excellent birding opportunities. There are washrooms available at the trailhead but not on the trails. The trail is packed woodchips and bare earth. There are many roots and uneven parts to the pathway. It can be icy and slippery and in some sections it is steep. It is not suitable for all mobilities. Please use your judgement. We welcome beginner to advanced birders. Although this trip is free we suggest to bring a small donation ($5) to contribute to the maintenance of these trails. The trails are maintained (to a quite high standard) by a group of volunteers. Binoculars will be available for those that need them.
URL:https://naturecalgary.com/event/brown-lowrey-pp-2/
LOCATION:Brown-Lowery Provincial Park\, Alberta\, Canada
CATEGORIES:Field Trips
GEO:50.820643;-114.439259
END:VEVENT
BEGIN:VEVENT
DTSTART;TZID=America/Edmonton:20240615T080000
DTEND;TZID=America/Edmonton:20240615T080000
DTSTAMP:20260420T053358
CREATED:20240529T044602Z
LAST-MODIFIED:20240529T044651Z
UID:10000897-1718438400-1718438400@naturecalgary.com
SUMMARY:Griffith Woods Park
DESCRIPTION:This forested area is home to many birds. It’s also great for practicing birding by song as many of the birds are first (and sometimes only) heard. This walk is easy and the group will stay on paved pathways and mulched pathways. Children are welcome to join. This is a longer walk than most and is approximately 7km round trip\, there are no hills. Please meet in the Griffith Woods Parking Lot: https://goo.gl/maps/9JCcGy5z5cNosfb47 Binoculars are available for those who need them.
URL:https://naturecalgary.com/event/griffith-woods-park-9/
LOCATION:Griffith Woods Park\, Alberta\, Canada
CATEGORIES:Field Trips
GEO:51.00989;-114.206537
END:VEVENT
BEGIN:VEVENT
DTSTART;TZID=America/Edmonton:20240612T190000
DTEND;TZID=America/Edmonton:20240612T190000
DTSTAMP:20260420T053358
CREATED:20240529T043738Z
LAST-MODIFIED:20240529T043850Z
UID:10000895-1718218800-1718218800@naturecalgary.com
SUMMARY:Plant Noticers Club - Griffith Woods Park
DESCRIPTION:Meet at the Griffith Woods Parking lot at 7pm. If you have a plant identification book please bring it along.
URL:https://naturecalgary.com/event/plant-noticers-club-griffith-woods-park/
LOCATION:Griffith Woods Park\, Alberta\, Canada
CATEGORIES:Field Trips
GEO:51.00989;-114.206537
END:VEVENT
BEGIN:VEVENT
DTSTART;TZID=America/Edmonton:20240609T093000
DTEND;TZID=America/Edmonton:20240609T093000
DTSTAMP:20260420T053358
CREATED:20240529T044242Z
LAST-MODIFIED:20240529T044327Z
UID:10000896-1717925400-1717925400@naturecalgary.com
SUMMARY:St. Patrick’s Island Birding
DESCRIPTION:Please register with the link provided.
URL:https://naturecalgary.com/event/st-patricks-island-birding-2/
CATEGORIES:Field Trips
END:VEVENT
BEGIN:VEVENT
DTSTART;TZID=America/Edmonton:20240229T090000
DTEND;TZID=America/Edmonton:20240229T090000
DTSTAMP:20260420T053358
CREATED:20240210T234530Z
LAST-MODIFIED:20240210T235222Z
UID:10000828-1709197200-1709197200@naturecalgary.com
SUMMARY:Winter Birds - Prairie Edition
DESCRIPTION:For more details about this trip and to register\, please see the Eventbrite link provided.
URL:https://naturecalgary.com/event/winter-birds-prairie-edition/
CATEGORIES:Field Trips
END:VEVENT
BEGIN:VEVENT
DTSTART;TZID=America/Edmonton:20240227T090000
DTEND;TZID=America/Edmonton:20240227T090000
DTSTAMP:20260420T053358
CREATED:20240210T234157Z
LAST-MODIFIED:20240210T234219Z
UID:10000827-1709024400-1709024400@naturecalgary.com
SUMMARY:Brown-Lowery Provincial Park
DESCRIPTION:For more details and to register for this trip\, please see the Eventbrite link provided.
URL:https://naturecalgary.com/event/brown-lowery-provincial-park-3/
LOCATION:Brown-Lowery Provincial Park\, Alberta\, Canada
CATEGORIES:Field Trips
GEO:50.820643;-114.439259
END:VEVENT
BEGIN:VEVENT
DTSTART;TZID=America/Edmonton:20240218T090000
DTEND;TZID=America/Edmonton:20240218T090000
DTSTAMP:20260420T053358
CREATED:20240210T233506Z
LAST-MODIFIED:20240210T234009Z
UID:10000826-1708246800-1708246800@naturecalgary.com
SUMMARY:Carburn Park
DESCRIPTION:For more details and to register for this trip\, please see the Eventbrite link provided.
URL:https://naturecalgary.com/event/carburn-park-16/
LOCATION:Carburn Park\, 67 Riverview Dr. S.E.\, Calgary\, Alberta\, T2C4H8\, Canada
CATEGORIES:Field Trips
GEO:50.973327;-114.026105
X-APPLE-STRUCTURED-LOCATION;VALUE=URI;X-ADDRESS=Carburn Park 67 Riverview Dr. S.E. Calgary Alberta T2C4H8 Canada;X-APPLE-RADIUS=500;X-TITLE=67 Riverview Dr. S.E.:geo:-114.026105,50.973327
END:VEVENT
BEGIN:VEVENT
DTSTART;TZID=America/Edmonton:20240217T123000
DTEND;TZID=America/Edmonton:20240217T123000
DTSTAMP:20260420T053358
CREATED:20240210T232220Z
LAST-MODIFIED:20240210T232414Z
UID:10000825-1708173000-1708173000@naturecalgary.com
SUMMARY:Birding on St. Patrick's Island
DESCRIPTION:For more details and to register for this trip\, please follow the Eventbrite link provided.
URL:https://naturecalgary.com/event/st-patricks-island-3/
CATEGORIES:Field Trips
END:VEVENT
BEGIN:VEVENT
DTSTART;TZID=America/Edmonton:20240217T093000
DTEND;TZID=America/Edmonton:20240217T093000
DTSTAMP:20260420T053358
CREATED:20240210T231923Z
LAST-MODIFIED:20240210T232448Z
UID:10000824-1708162200-1708162200@naturecalgary.com
SUMMARY:Birding on St. Patrick's Island
DESCRIPTION:For more details and to register for this trip\, please follow the Eventbrite link provided.
URL:https://naturecalgary.com/event/st-patricks-island-2/
CATEGORIES:Field Trips
END:VEVENT
BEGIN:VEVENT
DTSTART;TZID=America/Edmonton:20230901T090000
DTEND;TZID=America/Edmonton:20230901T090000
DTSTAMP:20260420T053358
CREATED:20230724T214315Z
LAST-MODIFIED:20230725T200312Z
UID:10000784-1693558800-1693558800@naturecalgary.com
SUMMARY:West Bragg Creek
DESCRIPTION:Please register with leader Kaya through the link provided.
URL:https://naturecalgary.com/event/west-bragg-creek-5/
LOCATION:West Bragg Creek Day Use Area\, Alberta\, Canada
CATEGORIES:Field Trips
GEO:50.948551;-114.69168
END:VEVENT
BEGIN:VEVENT
DTSTART;TZID=America/Edmonton:20230814T083000
DTEND;TZID=America/Edmonton:20230814T083000
DTSTAMP:20260420T053358
CREATED:20230724T212900Z
LAST-MODIFIED:20230724T212920Z
UID:10000781-1692001800-1692001800@naturecalgary.com
SUMMARY:Wolf Willow to Lafarge Meadows
DESCRIPTION:Please register with leader Kaya through the link provided.
URL:https://naturecalgary.com/event/wolf-willow-to-lafarge-meadows-2/
LOCATION:Fish Creek Provincial Park – Wolf Willow\, Alberta\, Canada
CATEGORIES:Field Trips
GEO:50.878037;-114.001232
END:VEVENT
BEGIN:VEVENT
DTSTART;TZID=America/Edmonton:20230811T083000
DTEND;TZID=America/Edmonton:20230811T083000
DTSTAMP:20260420T053358
CREATED:20230724T212530Z
LAST-MODIFIED:20230724T212613Z
UID:10000780-1691742600-1691742600@naturecalgary.com
SUMMARY:Frank Lake
DESCRIPTION:Please register with leader Kaya through the link provided.
URL:https://naturecalgary.com/event/frank-lake-8/
LOCATION:Frank Lake\, Alberta\, Canada
CATEGORIES:Field Trips
GEO:50.565158;-113.717183
END:VEVENT
BEGIN:VEVENT
DTSTART;TZID=America/Edmonton:20230804T083000
DTEND;TZID=America/Edmonton:20230804T083000
DTSTAMP:20260420T053358
CREATED:20230724T212057Z
LAST-MODIFIED:20230724T212118Z
UID:10000779-1691137800-1691137800@naturecalgary.com
SUMMARY:Bebo Grove
DESCRIPTION:Please register with leader Kaya through the link provided.
URL:https://naturecalgary.com/event/bebo-grove-11/
LOCATION:Bebo Grove\, Fish Creek Provincial Park\, 13610 24 St SW\, Calgary\, Alberta\, Canada
CATEGORIES:Field Trips
GEO:50.9296302;-114.1156558
X-APPLE-STRUCTURED-LOCATION;VALUE=URI;X-ADDRESS=Bebo Grove Fish Creek Provincial Park 13610 24 St SW Calgary Alberta Canada;X-APPLE-RADIUS=500;X-TITLE=13610 24 St SW:geo:-114.1156558,50.9296302
END:VEVENT
BEGIN:VEVENT
DTSTART;TZID=America/Edmonton:20230331T090000
DTEND;TZID=America/Edmonton:20230331T090000
DTSTAMP:20260420T053358
CREATED:20230218T232146Z
LAST-MODIFIED:20230218T232146Z
UID:10000713-1680253200-1680253200@naturecalgary.com
SUMMARY:Frank Lake
DESCRIPTION:Please register with Kaya Konopnicki at https://www.eventbrite.ca/e/nature-calgary-birding-frank-lake-tickets-551868442367
URL:https://naturecalgary.com/event/frank-lake-7/
LOCATION:Frank Lake\, Alberta\, Canada
CATEGORIES:Field Trips
GEO:50.565158;-113.717183
END:VEVENT
BEGIN:VEVENT
DTSTART;TZID=America/Edmonton:20230324T090000
DTEND;TZID=America/Edmonton:20230324T090000
DTSTAMP:20260420T053358
CREATED:20230218T232050Z
LAST-MODIFIED:20230218T232050Z
UID:10000711-1679648400-1679648400@naturecalgary.com
SUMMARY:Wolf Willow to LaFarge Meadows
DESCRIPTION:Please register with Kaya Konopnicki at https://www.eventbrite.ca/e/nature-calgary-birding-wolf-willow-to-lafarge-meadows-fcpp-tickets-551871812447
URL:https://naturecalgary.com/event/wolf-willow-to-lafarge-meadows/
LOCATION:Fish Creek Provincial Park – Wolf Willow\, Alberta\, Canada
CATEGORIES:Field Trips
GEO:50.878037;-114.001232
END:VEVENT
BEGIN:VEVENT
DTSTART;TZID=America/Edmonton:20230317T090000
DTEND;TZID=America/Edmonton:20230317T090000
DTSTAMP:20260420T053358
CREATED:20230218T231804Z
LAST-MODIFIED:20230218T231804Z
UID:10000709-1679043600-1679043600@naturecalgary.com
SUMMARY:68th Street Wetlands
DESCRIPTION:Please register with Kaya Konopnicki at https://www.eventbrite.ca/e/nature-calgary-birding-68th-street-wetlands-tickets-551855553817
URL:https://naturecalgary.com/event/68th-street-wetlands-5/
LOCATION:68 Street SE Wetlands\, Alberta\, Canada
CATEGORIES:Field Trips
GEO:51.034207;-113.936191
END:VEVENT
BEGIN:VEVENT
DTSTART;TZID=America/Edmonton:20230314T090000
DTEND;TZID=America/Edmonton:20230314T090000
DTSTAMP:20260420T053358
CREATED:20230218T231349Z
LAST-MODIFIED:20230218T231349Z
UID:10000708-1678784400-1678784400@naturecalgary.com
SUMMARY:Bebo Grove
DESCRIPTION:Please register with Kaya Konopnicki at https://www.eventbrite.ca/e/nature-calgary-birding-bebo-grove-fcpp-tickets-551847660207
URL:https://naturecalgary.com/event/bebo-grove-10/
LOCATION:Bebo Grove\, Fish Creek Provincial Park\, 13610 24 St SW\, Calgary\, Alberta\, Canada
CATEGORIES:Field Trips
GEO:50.9296302;-114.1156558
X-APPLE-STRUCTURED-LOCATION;VALUE=URI;X-ADDRESS=Bebo Grove Fish Creek Provincial Park 13610 24 St SW Calgary Alberta Canada;X-APPLE-RADIUS=500;X-TITLE=13610 24 St SW:geo:-114.1156558,50.9296302
END:VEVENT
BEGIN:VEVENT
DTSTART;TZID=America/Edmonton:20230307T090000
DTEND;TZID=America/Edmonton:20230307T090000
DTSTAMP:20260420T053358
CREATED:20230218T231231Z
LAST-MODIFIED:20230218T231231Z
UID:10000707-1678179600-1678179600@naturecalgary.com
SUMMARY:South Glenmore
DESCRIPTION:Please register with Kaya Konopnicki at https://www.eventbrite.ca/e/nature-calgary-birding-south-glenmore-tickets-551836687387
URL:https://naturecalgary.com/event/south-glenmore-2/
LOCATION:South Glenmore Park (90 Ave and Oakmount Dr)\, Alberta\, Canada
CATEGORIES:Field Trips
GEO:50.977368;-114.136035
END:VEVENT
BEGIN:VEVENT
DTSTART;TZID=America/Edmonton:20230221T090000
DTEND;TZID=America/Edmonton:20230221T090000
DTSTAMP:20260420T053358
CREATED:20230218T231911Z
LAST-MODIFIED:20230218T231911Z
UID:10000710-1676970000-1676970000@naturecalgary.com
SUMMARY:Griffith Woods Park
DESCRIPTION:Please register with Kaya Konopnicki at https://www.eventbrite.ca/e/nature-calgary-birding-griffith-woods-park-tickets-551863688147
URL:https://naturecalgary.com/event/griffith-woods-park-8/
LOCATION:Griffith Woods Park\, Alberta\, Canada
CATEGORIES:Field Trips
GEO:51.00989;-114.206537
END:VEVENT
BEGIN:VEVENT
DTSTART;TZID=America/Edmonton:20230221T090000
DTEND;TZID=America/Edmonton:20230221T090000
DTSTAMP:20260420T053358
CREATED:20230123T031859Z
LAST-MODIFIED:20230123T031859Z
UID:10000693-1676970000-1676970000@naturecalgary.com
SUMMARY:Inglewood Bird Sanctuary
DESCRIPTION:Register Here
URL:https://naturecalgary.com/event/inglewood-bird-sanctuary-14/
LOCATION:Inglewood Bird Sanctuary\, 2425 9 Ave SE\, Calgary\, Alberta\, T2G 4T4\, Canada
CATEGORIES:Field Trips
GEO:51.0301705;-114.00986
X-APPLE-STRUCTURED-LOCATION;VALUE=URI;X-ADDRESS=Inglewood Bird Sanctuary 2425 9 Ave SE Calgary Alberta T2G 4T4 Canada;X-APPLE-RADIUS=500;X-TITLE=2425 9 Ave SE:geo:-114.00986,51.0301705
END:VEVENT
BEGIN:VEVENT
DTSTART;TZID=America/Edmonton:20230217T090000
DTEND;TZID=America/Edmonton:20230217T090000
DTSTAMP:20260420T053358
CREATED:20230123T031833Z
LAST-MODIFIED:20230123T031833Z
UID:10000692-1676624400-1676624400@naturecalgary.com
SUMMARY:Carburn Park
DESCRIPTION:Register Here
URL:https://naturecalgary.com/event/carburn-park-9/
LOCATION:Carburn Park\, 67 Riverview Dr. S.E.\, Calgary\, Alberta\, T2C4H8\, Canada
CATEGORIES:Field Trips
GEO:50.973327;-114.026105
X-APPLE-STRUCTURED-LOCATION;VALUE=URI;X-ADDRESS=Carburn Park 67 Riverview Dr. S.E. Calgary Alberta T2C4H8 Canada;X-APPLE-RADIUS=500;X-TITLE=67 Riverview Dr. S.E.:geo:-114.026105,50.973327
END:VEVENT
BEGIN:VEVENT
DTSTART;TZID=America/Edmonton:20230214T090000
DTEND;TZID=America/Edmonton:20230214T090000
DTSTAMP:20260420T053358
CREATED:20230123T031712Z
LAST-MODIFIED:20230123T031757Z
UID:10000691-1676365200-1676365200@naturecalgary.com
SUMMARY:Sandy Beach
DESCRIPTION:Register Here
URL:https://naturecalgary.com/event/sandy-beach/
LOCATION:Sandy Beach\, 4500 14A Street Southwest\, Calgary\, Alberta\, T2T 2V8\, Canada
CATEGORIES:Field Trips
GEO:51.0088627;-114.0960692
X-APPLE-STRUCTURED-LOCATION;VALUE=URI;X-ADDRESS=Sandy Beach 4500 14A Street Southwest Calgary Alberta T2T 2V8 Canada;X-APPLE-RADIUS=500;X-TITLE=4500 14A Street Southwest:geo:-114.0960692,51.0088627
END:VEVENT
BEGIN:VEVENT
DTSTART;TZID=America/Edmonton:20230210T090000
DTEND;TZID=America/Edmonton:20230210T090000
DTSTAMP:20260420T053358
CREATED:20230123T031636Z
LAST-MODIFIED:20230123T031636Z
UID:10000689-1676019600-1676019600@naturecalgary.com
SUMMARY:Brown-Lowrey Provincial Park
DESCRIPTION:Register Here
URL:https://naturecalgary.com/event/brown-lowrey-provincial-park-7/
LOCATION:Brown-Lowery Provincial Park\, Alberta\, Canada
CATEGORIES:Field Trips
GEO:50.820643;-114.439259
END:VEVENT
BEGIN:VEVENT
DTSTART;TZID=America/Edmonton:20230207T090000
DTEND;TZID=America/Edmonton:20230207T090000
DTSTAMP:20260420T053358
CREATED:20230123T031608Z
LAST-MODIFIED:20230123T031608Z
UID:10000690-1675760400-1675760400@naturecalgary.com
SUMMARY:Queen’s Park Cemetery
DESCRIPTION:Register Here
URL:https://naturecalgary.com/event/queens-park-cemetery-5/
LOCATION:Queens Park Cemetary\, 3219 4 Street Northwest\, Calgary\, Alberta\, T2M 3A6\, Canada
CATEGORIES:Field Trips
GEO:51.0813831;-114.0726324
X-APPLE-STRUCTURED-LOCATION;VALUE=URI;X-ADDRESS=Queens Park Cemetary 3219 4 Street Northwest Calgary Alberta T2M 3A6 Canada;X-APPLE-RADIUS=500;X-TITLE=3219 4 Street Northwest:geo:-114.0726324,51.0813831
END:VEVENT
END:VCALENDAR