BEGIN:VCALENDAR
VERSION:2.0
PRODID:-//Nature Calgary - ECPv6.15.20//NONSGML v1.0//EN
CALSCALE:GREGORIAN
METHOD:PUBLISH
X-ORIGINAL-URL:https://naturecalgary.com
X-WR-CALDESC:Events for Nature Calgary
REFRESH-INTERVAL;VALUE=DURATION:PT1H
X-Robots-Tag:noindex
X-PUBLISHED-TTL:PT1H
BEGIN:VTIMEZONE
TZID:America/Edmonton
BEGIN:DAYLIGHT
TZOFFSETFROM:-0700
TZOFFSETTO:-0600
TZNAME:MDT
DTSTART:20170312T090000
END:DAYLIGHT
BEGIN:STANDARD
TZOFFSETFROM:-0600
TZOFFSETTO:-0700
TZNAME:MST
DTSTART:20171105T080000
END:STANDARD
BEGIN:DAYLIGHT
TZOFFSETFROM:-0700
TZOFFSETTO:-0600
TZNAME:MDT
DTSTART:20180311T090000
END:DAYLIGHT
BEGIN:STANDARD
TZOFFSETFROM:-0600
TZOFFSETTO:-0700
TZNAME:MST
DTSTART:20181104T080000
END:STANDARD
BEGIN:DAYLIGHT
TZOFFSETFROM:-0700
TZOFFSETTO:-0600
TZNAME:MDT
DTSTART:20190310T090000
END:DAYLIGHT
BEGIN:STANDARD
TZOFFSETFROM:-0600
TZOFFSETTO:-0700
TZNAME:MST
DTSTART:20191103T080000
END:STANDARD
BEGIN:DAYLIGHT
TZOFFSETFROM:-0700
TZOFFSETTO:-0600
TZNAME:MDT
DTSTART:20200308T090000
END:DAYLIGHT
BEGIN:STANDARD
TZOFFSETFROM:-0600
TZOFFSETTO:-0700
TZNAME:MST
DTSTART:20201101T080000
END:STANDARD
BEGIN:DAYLIGHT
TZOFFSETFROM:-0700
TZOFFSETTO:-0600
TZNAME:MDT
DTSTART:20210314T090000
END:DAYLIGHT
BEGIN:STANDARD
TZOFFSETFROM:-0600
TZOFFSETTO:-0700
TZNAME:MST
DTSTART:20211107T080000
END:STANDARD
BEGIN:DAYLIGHT
TZOFFSETFROM:-0700
TZOFFSETTO:-0600
TZNAME:MDT
DTSTART:20220313T090000
END:DAYLIGHT
BEGIN:STANDARD
TZOFFSETFROM:-0600
TZOFFSETTO:-0700
TZNAME:MST
DTSTART:20221106T080000
END:STANDARD
BEGIN:DAYLIGHT
TZOFFSETFROM:-0700
TZOFFSETTO:-0600
TZNAME:MDT
DTSTART:20230312T090000
END:DAYLIGHT
BEGIN:STANDARD
TZOFFSETFROM:-0600
TZOFFSETTO:-0700
TZNAME:MST
DTSTART:20231105T080000
END:STANDARD
BEGIN:DAYLIGHT
TZOFFSETFROM:-0700
TZOFFSETTO:-0600
TZNAME:MDT
DTSTART:20240310T090000
END:DAYLIGHT
BEGIN:STANDARD
TZOFFSETFROM:-0600
TZOFFSETTO:-0700
TZNAME:MST
DTSTART:20241103T080000
END:STANDARD
BEGIN:DAYLIGHT
TZOFFSETFROM:-0700
TZOFFSETTO:-0600
TZNAME:MDT
DTSTART:20250309T090000
END:DAYLIGHT
BEGIN:STANDARD
TZOFFSETFROM:-0600
TZOFFSETTO:-0700
TZNAME:MST
DTSTART:20251102T080000
END:STANDARD
END:VTIMEZONE
BEGIN:VEVENT
DTSTART;TZID=America/Edmonton:20241129T090000
DTEND;TZID=America/Edmonton:20241129T090000
DTSTAMP:20260420T053510
CREATED:20241104T223257Z
LAST-MODIFIED:20241104T223317Z
UID:10000960-1732870800-1732870800@naturecalgary.com
SUMMARY:Mallard Point
DESCRIPTION:Please request registration with trip leader Andrew Hart andrewhartch@icloud.com
URL:https://naturecalgary.com/event/mallard-point-7/
LOCATION:Mallard Point (Fish Creek Provincial Park)\, Alberta\, Canada
CATEGORIES:Field Trips
ORGANIZER;CN="Andrew Hart":MAILTO:andrewhartch@icloud.com
GEO:50.936873;-114.009825
END:VEVENT
BEGIN:VEVENT
DTSTART;TZID=America/Edmonton:20241122T090000
DTEND;TZID=America/Edmonton:20241122T090000
DTSTAMP:20260420T053510
CREATED:20241104T222936Z
LAST-MODIFIED:20241104T223031Z
UID:10000958-1732266000-1732266000@naturecalgary.com
SUMMARY:Graves Bridge Boat Launch
DESCRIPTION:Meet at the far end of the parking area. Please request registration with trip leader Andrew Hart andrewhartch@icloud.com
URL:https://naturecalgary.com/event/graves-bridge-boat-launch/
LOCATION:Graves Bridge Pubic Boat Launch\, 3113 Heritage Dr SE\, Calgary\, Alberta\, T2C 3A6\, Canada
CATEGORIES:Field Trips
ORGANIZER;CN="Andrew Hart":MAILTO:andrewhartch@icloud.com
GEO:50.9871731;-114.0262635
X-APPLE-STRUCTURED-LOCATION;VALUE=URI;X-ADDRESS=Graves Bridge Pubic Boat Launch 3113 Heritage Dr SE Calgary Alberta T2C 3A6 Canada;X-APPLE-RADIUS=500;X-TITLE=3113 Heritage Dr SE:geo:-114.0262635,50.9871731
END:VEVENT
BEGIN:VEVENT
DTSTART;TZID=America/Edmonton:20241115T090000
DTEND;TZID=America/Edmonton:20241115T090000
DTSTAMP:20260420T053510
CREATED:20241104T222453Z
LAST-MODIFIED:20241104T222529Z
UID:10000955-1731661200-1731661200@naturecalgary.com
SUMMARY:Inglewood Bird Sanctuary
DESCRIPTION:Please request registration with trip leader Andrew Hart andrewhartch@icloud.com
URL:https://naturecalgary.com/event/inglewood-bird-sanctuary-31/
LOCATION:Inglewood Bird Sanctuary\, 2425 9 Ave SE\, Calgary\, Alberta\, T2G 4T4\, Canada
CATEGORIES:Field Trips
ORGANIZER;CN="Andrew Hart":MAILTO:andrewhartch@icloud.com
GEO:51.0301705;-114.00986
X-APPLE-STRUCTURED-LOCATION;VALUE=URI;X-ADDRESS=Inglewood Bird Sanctuary 2425 9 Ave SE Calgary Alberta T2G 4T4 Canada;X-APPLE-RADIUS=500;X-TITLE=2425 9 Ave SE:geo:-114.00986,51.0301705
END:VEVENT
BEGIN:VEVENT
DTSTART;TZID=America/Edmonton:20240524T090000
DTEND;TZID=America/Edmonton:20240524T113000
DTSTAMP:20260420T053510
CREATED:20240419T035206Z
LAST-MODIFIED:20240419T035306Z
UID:10000861-1716541200-1716550200@naturecalgary.com
SUMMARY:Carburn Park
DESCRIPTION:Please register with trip leader Andrew Hart at andrewhartch@icloud.com
URL:https://naturecalgary.com/event/carburn-park-17/
LOCATION:Carburn Park\, 67 Riverview Dr. S.E.\, Calgary\, Alberta\, T2C4H8\, Canada
CATEGORIES:Field Trips
ORGANIZER;CN="Andrew Hart":MAILTO:andrewhartch@icloud.com
GEO:50.973327;-114.026105
X-APPLE-STRUCTURED-LOCATION;VALUE=URI;X-ADDRESS=Carburn Park 67 Riverview Dr. S.E. Calgary Alberta T2C4H8 Canada;X-APPLE-RADIUS=500;X-TITLE=67 Riverview Dr. S.E.:geo:-114.026105,50.973327
END:VEVENT
BEGIN:VEVENT
DTSTART;TZID=America/Edmonton:20240516T090000
DTEND;TZID=America/Edmonton:20240516T113000
DTSTAMP:20260420T053510
CREATED:20240419T034454Z
LAST-MODIFIED:20240419T034852Z
UID:10000860-1715850000-1715859000@naturecalgary.com
SUMMARY:Airdrie Nose Creek Park
DESCRIPTION:Please register with trip leader Andrew Hart at andrewhartch@icloud.com
URL:https://naturecalgary.com/event/airdrie-nose-creek-park/
LOCATION:Airdrie Nose Creek Park\, Airdrie\, Alberta\, Canada
CATEGORIES:Field Trips
ORGANIZER;CN="Andrew Hart":MAILTO:andrewhartch@icloud.com
GEO:51.279416;-114.012403
END:VEVENT
BEGIN:VEVENT
DTSTART;TZID=America/Edmonton:20240510T090000
DTEND;TZID=America/Edmonton:20240510T113000
DTSTAMP:20260420T053510
CREATED:20240419T034117Z
LAST-MODIFIED:20240419T034332Z
UID:10000859-1715331600-1715340600@naturecalgary.com
SUMMARY:68th Street Wetlands
DESCRIPTION:Please register with trip leader Andrew Hart at andrewhartch@icloud.com
URL:https://naturecalgary.com/event/68th-street-wetlands-9/
LOCATION:68 Street SE Wetlands\, Alberta\, Canada
CATEGORIES:Field Trips
ORGANIZER;CN="Andrew Hart":MAILTO:andrewhartch@icloud.com
GEO:51.034207;-113.936191
END:VEVENT
BEGIN:VEVENT
DTSTART;TZID=America/Edmonton:20230406T090000
DTEND;TZID=America/Edmonton:20230406T110000
DTSTAMP:20260420T053510
CREATED:20230328T013242Z
LAST-MODIFIED:20230328T013242Z
UID:10000725-1680771600-1680778800@naturecalgary.com
SUMMARY:68th Street Wetlands
DESCRIPTION:Registration required. Leader Andrew Hart andrewhartch@icloud.com
URL:https://naturecalgary.com/event/68th-street-wetlands-7/
LOCATION:68 Street SE Wetlands\, Alberta\, Canada
CATEGORIES:Field Trips
ORGANIZER;CN="Andrew Hart":MAILTO:andrewhartch@icloud.com
GEO:51.034207;-113.936191
END:VEVENT
BEGIN:VEVENT
DTSTART;TZID=America/Edmonton:20230330T090000
DTEND;TZID=America/Edmonton:20230330T110000
DTSTAMP:20260420T053510
CREATED:20230328T012141Z
LAST-MODIFIED:20230328T013338Z
UID:10000726-1680166800-1680174000@naturecalgary.com
SUMMARY:Fish Creek Park Boat Launch
DESCRIPTION:Registration required. Leader Andrew Hart andrewhartch@icloud.com
URL:https://naturecalgary.com/event/68th-street-wetlands-6/
LOCATION:Fish Creek Provincial Park – Boat Launch Parking Lot (Bow Bottom Trail)\, Alberta\, Canada
CATEGORIES:Field Trips
ORGANIZER;CN="Andrew Hart":MAILTO:andrewhartch@icloud.com
GEO:50.897959;-114.011297
END:VEVENT
BEGIN:VEVENT
DTSTART;VALUE=DATE:20220529
DTEND;VALUE=DATE:20220530
DTSTAMP:20260420T053510
CREATED:20220322T233447Z
LAST-MODIFIED:20220322T233513Z
UID:10000606-1653782400-1653868799@naturecalgary.com
SUMMARY:Calgary Area May Species Count
DESCRIPTION:Once again there will be a Calgary and area May Species Count this year. \nThe count will take place on Saturday May 28 and Sunday May 29. \nIf you would like to participate this year please contact Andrew Hart andrewhartch*@*icloud.com for more details or to confirm your participation for area(s) you covered before. \nAll participants from recent will be contacted in April to  solicit interest in participating this year.
URL:https://naturecalgary.com/event/may-count-2022/
LOCATION:Alberta\, Canada
CATEGORIES:Field Trips,Species Count
ORGANIZER;CN="Andrew Hart":MAILTO:andrewhartch@icloud.com
GEO:53.9332706;-116.5765035
END:VEVENT
BEGIN:VEVENT
DTSTART;VALUE=DATE:20220528
DTEND;VALUE=DATE:20220529
DTSTAMP:20260420T053510
CREATED:20220322T233447Z
LAST-MODIFIED:20220322T233536Z
UID:10000607-1653696000-1653782399@naturecalgary.com
SUMMARY:Calgary Area May Species Count
DESCRIPTION:Once again there will be a Calgary and area May Species Count this year. \nThe count will take place on Saturday May 28 and Sunday May 29. \nIf you would like to participate this year please contact Andrew Hart andrewhartch*@*icloud.com for more details or to confirm your participation for area(s) you covered before. \nAll participants from recent will be contacted in April to  solicit interest in participating this year.
URL:https://naturecalgary.com/event/may-count-2022-2/
LOCATION:Alberta\, Canada
CATEGORIES:Field Trips,Species Count
ORGANIZER;CN="Andrew Hart":MAILTO:andrewhartch@icloud.com
GEO:53.9332706;-116.5765035
END:VEVENT
BEGIN:VEVENT
DTSTART;TZID=America/Edmonton:20220519T083000
DTEND;TZID=America/Edmonton:20220519T113000
DTSTAMP:20260420T053510
CREATED:20220515T211250Z
LAST-MODIFIED:20220515T211250Z
UID:10000624-1652949000-1652959800@naturecalgary.com
SUMMARY:Bird Airdrie Nose Creek Park. 
DESCRIPTION:From the QEII Highway (Hwy #2 north) take the first Airdrie exit west to Yankee Valley Blvd.  Take the first right north on to Main Street.  Drive about 1 km. The Park is on your left.  Drive in and follow to the far righthand end of the car park. We will explore the Park on foot\, expect to walk about seven km. Please register with leader Andrew Hart at andrewhartch*@*icloud.com (403- 608-8918)
URL:https://naturecalgary.com/event/bird-airdrie-nose-creek-park/
LOCATION:Airdrie Nose Creek Park\, Airdrie\, Alberta\, Canada
CATEGORIES:Field Trips
ORGANIZER;CN="Andrew Hart":MAILTO:andrewhartch@icloud.com
GEO:51.279416;-114.012403
END:VEVENT
BEGIN:VEVENT
DTSTART;TZID=America/Edmonton:20220331T090000
DTEND;TZID=America/Edmonton:20220331T113000
DTSTAMP:20260420T053510
CREATED:20220320T161606Z
LAST-MODIFIED:20220320T161606Z
UID:10000604-1648717200-1648726200@naturecalgary.com
SUMMARY:Bird 68 Street Wetlands. 
DESCRIPTION:Meet in Elliston Dog Park East Parking (2402 68 St SE).  Drive east along 17th Ave SE and turn right (south) on 68th St SE.  The parking lot is on the right (west) side.  Please register with leader Andrew Hart at andrewhartch@icloud.com (403- 608-8918).
URL:https://naturecalgary.com/event/bird-68-street-wetlands-3/
LOCATION:68 Street SE Wetlands\, Alberta\, Canada
CATEGORIES:Field Trips
ORGANIZER;CN="Andrew Hart":MAILTO:andrewhartch@icloud.com
GEO:51.034207;-113.936191
END:VEVENT
BEGIN:VEVENT
DTSTART;TZID=America/Edmonton:20220320T090000
DTEND;TZID=America/Edmonton:20220320T130000
DTSTAMP:20260420T053510
CREATED:20220219T133618Z
LAST-MODIFIED:20220219T133618Z
UID:10000593-1647766800-1647781200@naturecalgary.com
SUMMARY:Bird Frank Lake.
DESCRIPTION:Meet at the NW lookout/blind parking lot OUTSIDE the gate at 9:00. We will walk the area for a couple of hours and (subject to time and interest) explore other nearby hotspots. Bring lunch and appropriate footwear and clothing. Please register with leader Andrew Hart at andrewhartch*@*icloud.com (403- 608-8918)
URL:https://naturecalgary.com/event/bird-frank-lake-4/
LOCATION:Frank Lake\, Alberta\, Canada
CATEGORIES:Field Trips
ORGANIZER;CN="Andrew Hart":MAILTO:andrewhartch@icloud.com
GEO:50.565158;-113.717183
END:VEVENT
BEGIN:VEVENT
DTSTART;TZID=America/Edmonton:20220206T090000
DTEND;TZID=America/Edmonton:20220206T113000
DTSTAMP:20260420T053510
CREATED:20220202T004820Z
LAST-MODIFIED:20220202T004820Z
UID:10000292-1644138000-1644147000@naturecalgary.com
SUMMARY:Bird Bow River West Bank
DESCRIPTION:We will meet at the Graves Bridge Boat Launch and bird along the west bank of the Bow River. This will offer a different perspective to the more traditional trips along the east bank from Carburn Park and Beaverdam Flats. The Graves Bridge Boat Launch is reached by turning south from eastbound Glenmore Trail onto Glendeer Circle SE. Then left at the lights on to Heritage Drive. The car park is on the right before you go under the Graves Bridge. Park towards the north end away from the actual boat launch. Dress according to the weather. Please register with leader: Andrew Hart at andrewhartch@icloud.com or (403) 608-8918
URL:https://naturecalgary.com/event/bird-bow-river-west-bank/
LOCATION:Graves Bridge Pubic Boat Launch\, 3113 Heritage Dr SE\, Calgary\, Alberta\, T2C 3A6\, Canada
CATEGORIES:Field Trips
ORGANIZER;CN="Andrew Hart":MAILTO:andrewhartch@icloud.com
GEO:50.9871731;-114.0262635
X-APPLE-STRUCTURED-LOCATION;VALUE=URI;X-ADDRESS=Graves Bridge Pubic Boat Launch 3113 Heritage Dr SE Calgary Alberta T2C 3A6 Canada;X-APPLE-RADIUS=500;X-TITLE=3113 Heritage Dr SE:geo:-114.0262635,50.9871731
END:VEVENT
BEGIN:VEVENT
DTSTART;TZID=America/Edmonton:20210918T083000
DTEND;TZID=America/Edmonton:20210918T113000
DTSTAMP:20260420T053510
CREATED:20210830T144420Z
LAST-MODIFIED:20210830T150957Z
UID:10000245-1631953800-1631964600@naturecalgary.com
SUMMARY:Bird 68 Street Wetlands
DESCRIPTION:Meet in Elliston Dog Park East Parking (2402 68 St SE).  Drive east along 17th Ave SE and turn right (south) on 68th St SE.  The parking lot is on the right (west) side.
URL:https://naturecalgary.com/event/bird-68-street-wetlands-2/
LOCATION:68 Street SE Wetlands\, Alberta\, Canada
CATEGORIES:Field Trips
ORGANIZER;CN="Andrew Hart":MAILTO:andrewhartch@icloud.com
GEO:51.034207;-113.936191
END:VEVENT
BEGIN:VEVENT
DTSTART;TZID=America/Edmonton:20210816T083000
DTEND;TZID=America/Edmonton:20210816T120000
DTSTAMP:20260420T053510
CREATED:20210725T173050Z
LAST-MODIFIED:20210725T173050Z
UID:10000525-1629102600-1629115200@naturecalgary.com
SUMMARY:Bird Mallard Point\, FCPP
DESCRIPTION:Meet in parking lot at far east end of Canyon Meadows Dr. SE.
URL:https://naturecalgary.com/event/bird-mallard-point-fcpp-3/
LOCATION:Mallard Point (Fish Creek Provincial Park)\, Alberta\, Canada
CATEGORIES:Field Trips
ORGANIZER;CN="Andrew Hart":MAILTO:andrewhartch@icloud.com
GEO:50.936873;-114.009825
END:VEVENT
BEGIN:VEVENT
DTSTART;VALUE=DATE:20210714
DTEND;VALUE=DATE:20210715
DTSTAMP:20260420T053510
CREATED:20210709T041347Z
LAST-MODIFIED:20210709T041347Z
UID:10000516-1626220800-1626307199@naturecalgary.com
SUMMARY:Nature Calgary Trips to Glenbow Ranch – July 14
DESCRIPTION:Nature Calgary has developed an exciting new opportunity to explore Glenbow Ranch Provincial Park by golf cart. This Park is great for biking and hiking\, but it is quite a long walk to get to the good birding areas. \nThe Glenbow Ranch Park Foundation offers golf cart tours Monday thru Thursday. These are available to the public and can be booked online. They focus on the Park’s history and general information. The regular golfcart tours go from 10:00 AM to noon and cost $25. \nFor Nature Calgary we have arranged four-hour tours from 8:00 AM to noon for $30 per person. These special trips are exclusively for Nature Calgary members. There are two carts\, and each can accommodate six or seven passengers. They are also suited for folks with limited mobility.  The primary focus will be birding\, but there are good wild flowers too. Several Natural Calgary trip leaders completed an orientation tour and will direct the cart drivers to the preferred stopping spots. The carts will wait as we explore the various hotspots. \nThere are a few spots left on July 14th and a new date; July 28th. \nYou can sign up at: https://grpf.ca/product/2021-nature-calgary-tours-nc-members-only/. \nWe will meet at the GRPP parking lot before 8:00 AM. When you register for the tour\, you will also receive a confirmation email from GRPF which includes a waiver. The waiver must be signed before the tour begins. The cart drivers have extra waivers on hand\, as sometimes people forget to bring them. It is preferred that Nature Calgary members register and pay through the GRPF website. \nIf you sign up for the trip on July 14\, please inform Andrew Hart.
URL:https://naturecalgary.com/event/nature-calgary-trips-to-glenbow-ranch-july-14/
LOCATION:Glenbow Ranch Provincial Park\, Alberta\, Canada
CATEGORIES:Field Trips,Special Trips
ORGANIZER;CN="Andrew Hart":MAILTO:andrewhartch@icloud.com
GEO:51.168662;-114.392758
END:VEVENT
BEGIN:VEVENT
DTSTART;TZID=America/Edmonton:20210712T183000
DTEND;TZID=America/Edmonton:20210712T183000
DTSTAMP:20260420T053510
CREATED:20210708T231446Z
LAST-MODIFIED:20210708T231446Z
UID:10000515-1626114600-1626114600@naturecalgary.com
SUMMARY:NEW - Bird Airdrie Chinook Regional Park
DESCRIPTION:Bird Airdrie Chinook Regional Park. From the QEII Highway (Hwy #2 north) take the first Airdrie exit west to Yankee Valley Blvd. Drive west and cross 8th Street then turn left on to Chinook Winds Drive Southwest. Drive about 800 m and meet in the car park on the right. We will explore the Park on foot. Please register with leader Andrew Hart at andrewhartch*@*icloud.com (403- 608-8918)
URL:https://naturecalgary.com/event/new-bird-airdrie-chinook-regional-park/
LOCATION:Chinook Winds Regional Park Airdrie\, 2853 Chinook Winds Drive Southwest\, Airdrie\, Alberta\, T0M 0E0\, Canada
CATEGORIES:Field Trips,UPDATED
ORGANIZER;CN="Andrew Hart":MAILTO:andrewhartch@icloud.com
GEO:51.265869;-114.034382
X-APPLE-STRUCTURED-LOCATION;VALUE=URI;X-ADDRESS=Chinook Winds Regional Park Airdrie 2853 Chinook Winds Drive Southwest Airdrie Alberta T0M 0E0 Canada;X-APPLE-RADIUS=500;X-TITLE=2853 Chinook Winds Drive Southwest:geo:-114.034382,51.265869
END:VEVENT
BEGIN:VEVENT
DTSTART;TZID=America/Edmonton:20210628T183000
DTEND;TZID=America/Edmonton:20210628T183000
DTSTAMP:20260420T053510
CREATED:20210614T161300Z
LAST-MODIFIED:20210614T161313Z
UID:10000499-1624905000-1624905000@naturecalgary.com
SUMMARY:Bird Airdrie Chinook Regional Park
DESCRIPTION:Bird Airdrie Chinook Regional Park.  From the QEII Highway (Hwy #2 north) take the first Airdrie exit west to Yankee Valley Blvd. Drive west and cross 8th Street then turn left on to Chinook Winds Drive Southwest.  Drive about 800 m and meet in the car park on the right. We will explore the Park on foot. Please register with leader Andrew Hart at andrewhartch*@*icloud.com (403- 608-8918)
URL:https://naturecalgary.com/event/bird-airdrie-chinook-regional-park-2/
LOCATION:Chinook Winds Regional Park Airdrie\, 2853 Chinook Winds Drive Southwest\, Airdrie\, Alberta\, T0M 0E0\, Canada
CATEGORIES:Field Trips
ORGANIZER;CN="Andrew Hart":MAILTO:andrewhartch@icloud.com
GEO:51.265869;-114.034382
X-APPLE-STRUCTURED-LOCATION;VALUE=URI;X-ADDRESS=Chinook Winds Regional Park Airdrie 2853 Chinook Winds Drive Southwest Airdrie Alberta T0M 0E0 Canada;X-APPLE-RADIUS=500;X-TITLE=2853 Chinook Winds Drive Southwest:geo:-114.034382,51.265869
END:VEVENT
BEGIN:VEVENT
DTSTART;TZID=America/Edmonton:20210621T183000
DTEND;TZID=America/Edmonton:20210621T183000
DTSTAMP:20260420T053510
CREATED:20210614T161005Z
LAST-MODIFIED:20210614T161035Z
UID:10000497-1624300200-1624300200@naturecalgary.com
SUMMARY:Bird Airdrie Nose Creek Park
DESCRIPTION:Bird Airdrie Nose Creek Park.  From the QEII Highway (Hwy #2 north) take the first Airdrie exit west to Yankee Valley Blvd.  Take the first right north on to Main Street.  Drive about 1 km. The Park is on your left.  Drive in and follow to the far righthand end of the car park. We will explore the Park on foot\, expect to walk about seven km. Please register with leader Andrew Hart at andrewhartch*@*icloud.com (403-608-8918)
URL:https://naturecalgary.com/event/bird-airdrie-nose-creek-park-2/
LOCATION:Airdrie Nose Creek Park\, Airdrie\, Alberta\, Canada
CATEGORIES:Field Trips
ORGANIZER;CN="Andrew Hart":MAILTO:andrewhartch@icloud.com
GEO:51.279416;-114.012403
END:VEVENT
BEGIN:VEVENT
DTSTART;TZID=America/Edmonton:20200206T083000
DTEND;TZID=America/Edmonton:20200206T120000
DTSTAMP:20260420T053510
CREATED:20200111T194226Z
LAST-MODIFIED:20200111T194226Z
UID:10000099-1580977800-1580990400@naturecalgary.com
SUMMARY:Bird Inglewood Bird Sanctuary
DESCRIPTION:Bird Inglewood Bird Sanctuary. IBS is located at 2425 – 9 Ave. SE (from the Deerfoot Trail\, take the Blackfoot Trail westbound exit to 19 St. SE\, then turn left onto 9 Ave.) Meet in the parking lot. Please register with leader Andrew Hart (andrewhart*@*shaw.ca or 403-980-1538) to ensure notification in the event of a weather-related cancellation or rescheduling. Registration required.
URL:https://naturecalgary.com/event/bird-inglewood-bird-sanctuary/
LOCATION:Inglewood Bird Sanctuary\, 2425 9 Ave SE\, Calgary\, Alberta\, T2G 4T4\, Canada
CATEGORIES:Field Trips
ORGANIZER;CN="Andrew Hart":MAILTO:andrewhartch@icloud.com
GEO:51.0301705;-114.00986
X-APPLE-STRUCTURED-LOCATION;VALUE=URI;X-ADDRESS=Inglewood Bird Sanctuary 2425 9 Ave SE Calgary Alberta T2G 4T4 Canada;X-APPLE-RADIUS=500;X-TITLE=2425 9 Ave SE:geo:-114.00986,51.0301705
END:VEVENT
BEGIN:VEVENT
DTSTART;TZID=America/Edmonton:20200116T090000
DTEND;TZID=America/Edmonton:20200116T113000
DTSTAMP:20260420T053510
CREATED:20191116T011551Z
LAST-MODIFIED:20200112T195900Z
UID:10000304-1579165200-1579174200@naturecalgary.com
SUMMARY:CANCELLED - Carburn Park Jan 16
DESCRIPTION:CANCELLED – This event was cancelled due to the cold weather. \nCarburn Park. Look for winter birds in the trees and on the river. Meet in parking lot. Bring binoculars and dress appropriately. Carburn Park is reached by turning south from Glenmore Trail onto 18 St SE\, right onto Rivervalley Dr SE and then left onto Riverview Dr SE (2nd left\, ignoring cul du sac). Please register with leader Andrew Hart (andrewhart*@*shaw.ca or 403-980-1538) to ensure notification in the event of a weather-related cancellation or rescheduling. Registration required.
URL:https://naturecalgary.com/event/carburn-park-jan-16/
LOCATION:Carburn Park\, 67 Riverview Dr. S.E.\, Calgary\, Alberta\, T2C4H8\, Canada
CATEGORIES:Field Trips,UPDATED
ORGANIZER;CN="Andrew Hart":MAILTO:andrewhartch@icloud.com
GEO:50.973327;-114.026105
X-APPLE-STRUCTURED-LOCATION;VALUE=URI;X-ADDRESS=Carburn Park 67 Riverview Dr. S.E. Calgary Alberta T2C4H8 Canada;X-APPLE-RADIUS=500;X-TITLE=67 Riverview Dr. S.E.:geo:-114.026105,50.973327
END:VEVENT
BEGIN:VEVENT
DTSTART;TZID=America/Edmonton:20191107T090000
DTEND;TZID=America/Edmonton:20191107T170000
DTSTAMP:20260420T053510
CREATED:20190913T052240Z
LAST-MODIFIED:20190913T052240Z
UID:10000088-1573117200-1573146000@naturecalgary.com
SUMMARY:West of Calgary
DESCRIPTION:West of Calgary (destinations TBD) Expected return mid to late afternoon. Meet in the small parking lot in Valley Ridge. Exit westbound Trans-Canada Hwy onto Valley Ridge Blvd NW. At first intersection\, turn right onto Valley Ridge Dr. NW. At next intersection turn right onto Valley Meadow Close NW and drive 100 metres to parking lot on the right. Bring lunch. Email Leader: Andrew Hart\, 403-980-1538 at andrewhart*@*shaw.ca to register. Registration required.
URL:https://naturecalgary.com/event/west-of-calgary/
CATEGORIES:Field Trips
ORGANIZER;CN="Andrew Hart":MAILTO:andrewhartch@icloud.com
END:VEVENT
BEGIN:VEVENT
DTSTART;TZID=America/Edmonton:20191017T090000
DTEND;TZID=America/Edmonton:20191017T120000
DTSTAMP:20260420T053510
CREATED:20190913T051337Z
LAST-MODIFIED:20190913T051337Z
UID:10000091-1571302800-1571313600@naturecalgary.com
SUMMARY:Bird Elliston Park
DESCRIPTION:Bird Elliston Park area. Finish around noon.  Meet at Elliston Park Dog Park car park. From 17th Avenue SE\, go S at 68 St SE. Car park is about 400 m down on the right. Leader: Andrew Hart\, 403-980-1538
URL:https://naturecalgary.com/event/bird-elliston-park/
LOCATION:Elliston Park\, 1827 68 St SE\, Calgary\, Alberta\, Canada
CATEGORIES:Field Trips
ORGANIZER;CN="Andrew Hart":MAILTO:andrewhartch@icloud.com
GEO:51.0357329;-113.9363968
X-APPLE-STRUCTURED-LOCATION;VALUE=URI;X-ADDRESS=Elliston Park 1827 68 St SE Calgary Alberta Canada;X-APPLE-RADIUS=500;X-TITLE=1827 68 St SE:geo:-113.9363968,51.0357329
END:VEVENT
BEGIN:VEVENT
DTSTART;TZID=America/Edmonton:20191010T090000
DTEND;TZID=America/Edmonton:20191010T170000
DTSTAMP:20260420T053510
CREATED:20190913T050835Z
LAST-MODIFIED:20190913T050835Z
UID:10000093-1570698000-1570726800@naturecalgary.com
SUMMARY:East of Calgary Oct 10
DESCRIPTION:East of Calgary (destinations TBD) Expected return mid to late afternoon. Meet at Elliston Park Dog Park car park. From 17th Avenue SE\, go S at 68 St SE. Car park is about 400 m down on the right. Meet in parking lot and bring lunch. Email Leader: Andrew Hart\, 403-980-1538 at andrewhart*@*shaw.ca to register. Registration required.
URL:https://naturecalgary.com/event/east-of-calgary-oct-10/
LOCATION:Elliston Park\, 1827 68 St SE\, Calgary\, Alberta\, Canada
CATEGORIES:Field Trips
ORGANIZER;CN="Andrew Hart":MAILTO:andrewhartch@icloud.com
GEO:51.0357329;-113.9363968
X-APPLE-STRUCTURED-LOCATION;VALUE=URI;X-ADDRESS=Elliston Park 1827 68 St SE Calgary Alberta Canada;X-APPLE-RADIUS=500;X-TITLE=1827 68 St SE:geo:-113.9363968,51.0357329
END:VEVENT
BEGIN:VEVENT
DTSTART;TZID=America/Edmonton:20190512T073000
DTEND;TZID=America/Edmonton:20190512T190000
DTSTAMP:20260420T053510
CREATED:20190415T024410Z
LAST-MODIFIED:20190415T024410Z
UID:10000152-1557646200-1557687600@naturecalgary.com
SUMMARY:Bird Calgary Region 80 km Circle Northeast Quadrant
DESCRIPTION:Bird Calgary Region 80 km Circle Northeast Quadrant.  07:30 am to approx. 7:00 pm.  Be prepared to be out all day. Bring appropriate clothing\, food and water. Meeting place will be in NE Calgary [to be announced].  Registered participants will be advised of the meeting location to organise car-pooling prior to the event. Please email Andrew Hart andrewhart@shaw.ca by Wednesday May 8. Leader Andrew Hart.  Registration required. \n* Nature Calgary for the previous two years has offered a series of birding field trips from mid May to mid June to explore Calgary and the surrounding areas in the Calgary 80 km birding circle.  In 2019 these trips will be led by Bob Lefebvre\, Rose Painter\, Andrew Hart\, and Howard Heffler.  These are all full day trips\, many to locations with limited safe parking.  Car pooling will be required\, if you can not agree to car pool please do not come on these trips.  Registration is required for each trip. 
URL:https://naturecalgary.com/event/bird-calgary-region-80-km-circle-northeast-quadrant/
CATEGORIES:Field Trips
ORGANIZER;CN="Andrew Hart":MAILTO:andrewhartch@icloud.com
END:VEVENT
BEGIN:VEVENT
DTSTART;TZID=America/Edmonton:20190111T083000
DTEND;TZID=America/Edmonton:20190111T120000
DTSTAMP:20260420T053510
CREATED:20181109T164939Z
LAST-MODIFIED:20181109T164939Z
UID:10000007-1547195400-1547208000@naturecalgary.com
SUMMARY:Shannon Terrace Birding
DESCRIPTION:Look for winter birds.  Meet at parking lot.  Travel to West end of Anderson Rd\, south on 37st S\, left (East) on 130ave\, right on  Wood Path Rd.   Please register with leader Andrew Hart (andrewhart@shaw.ca or (403) 279-5209) to ensure notification in the event of a weather related cancellation or rescheduling. 
URL:https://naturecalgary.com/event/shannon-terrace-birding/
LOCATION:Shannon Terrace Amphitheatre (Fish Creek Provincial Park)\, Alberta\, Canada
CATEGORIES:Field Trips
ORGANIZER;CN="Andrew Hart":MAILTO:andrewhartch@icloud.com
GEO:50.927439;-114.129862
END:VEVENT
BEGIN:VEVENT
DTSTART;TZID=America/Edmonton:20180920T080000
DTEND;TZID=America/Edmonton:20180920T163000
DTSTAMP:20260420T053510
CREATED:20180823T171730Z
LAST-MODIFIED:20180823T171849Z
UID:10000047-1537430400-1537461000@naturecalgary.com
SUMMARY:Bird East of Calgary (destinations TBD)
DESCRIPTION:Meet at Carburn Park. From Glenmore Tr\, go S at 18 SE to  2nd stoplight\, turn right and follow signs to the park. Meet in the parking lot and bring lunch. Anticipated return around 4:30 pm. Registration Required\, Leader Andrew Hart\, 403-279-5209.
URL:https://naturecalgary.com/event/bird-east-of-calgary-destinations-tbd/
LOCATION:Carburn Park\, 67 Riverview Dr. S.E.\, Calgary\, Alberta\, T2C4H8\, Canada
CATEGORIES:Field Trips
ORGANIZER;CN="Andrew Hart":MAILTO:andrewhartch@icloud.com
GEO:50.973327;-114.026105
X-APPLE-STRUCTURED-LOCATION;VALUE=URI;X-ADDRESS=Carburn Park 67 Riverview Dr. S.E. Calgary Alberta T2C4H8 Canada;X-APPLE-RADIUS=500;X-TITLE=67 Riverview Dr. S.E.:geo:-114.026105,50.973327
END:VEVENT
END:VCALENDAR