BEGIN:VCALENDAR
VERSION:2.0
PRODID:-//Nature Calgary - ECPv6.15.20//NONSGML v1.0//EN
CALSCALE:GREGORIAN
METHOD:PUBLISH
X-WR-CALNAME:Nature Calgary
X-ORIGINAL-URL:https://naturecalgary.com
X-WR-CALDESC:Events for Nature Calgary
REFRESH-INTERVAL;VALUE=DURATION:PT1H
X-Robots-Tag:noindex
X-PUBLISHED-TTL:PT1H
BEGIN:VTIMEZONE
TZID:America/Edmonton
BEGIN:DAYLIGHT
TZOFFSETFROM:-0700
TZOFFSETTO:-0600
TZNAME:MDT
DTSTART:20220313T090000
END:DAYLIGHT
BEGIN:STANDARD
TZOFFSETFROM:-0600
TZOFFSETTO:-0700
TZNAME:MST
DTSTART:20221106T080000
END:STANDARD
BEGIN:DAYLIGHT
TZOFFSETFROM:-0700
TZOFFSETTO:-0600
TZNAME:MDT
DTSTART:20230312T090000
END:DAYLIGHT
BEGIN:STANDARD
TZOFFSETFROM:-0600
TZOFFSETTO:-0700
TZNAME:MST
DTSTART:20231105T080000
END:STANDARD
BEGIN:DAYLIGHT
TZOFFSETFROM:-0700
TZOFFSETTO:-0600
TZNAME:MDT
DTSTART:20240310T090000
END:DAYLIGHT
BEGIN:STANDARD
TZOFFSETFROM:-0600
TZOFFSETTO:-0700
TZNAME:MST
DTSTART:20241103T080000
END:STANDARD
END:VTIMEZONE
BEGIN:VEVENT
DTSTART;TZID=America/Edmonton:20230501T100000
DTEND;TZID=America/Edmonton:20230501T120000
DTSTAMP:20260420T053354
CREATED:20230418T042353Z
LAST-MODIFIED:20230418T042353Z
UID:10000739-1682935200-1682942400@naturecalgary.com
SUMMARY:Tuscany Ravine
DESCRIPTION:Register here
URL:https://naturecalgary.com/event/tuscany-ravine/
LOCATION:Tuscany Ravine (Parking Lot)\, Alberta\, Canada
CATEGORIES:Field Trips
GEO:51.122533;-114.233735
END:VEVENT
BEGIN:VEVENT
DTSTART;TZID=America/Edmonton:20230503T193000
DTEND;TZID=America/Edmonton:20230503T193000
DTSTAMP:20260420T053354
CREATED:20230426T165428Z
LAST-MODIFIED:20230426T165844Z
UID:10000756-1683142200-1683142200@naturecalgary.com
SUMMARY:BSG Meeting - May 2023
DESCRIPTION:New Zealand\nSpeakers: John and Lorrie Anderson \nLorrie and I traveled to New Zealand in November of 2022 and stayed for 5 weeks (which is their early spring). Birding is a little different in New Zealand\, as a lot of the endemics and migrants are seen on pelagic trips with the rest of the endemics located at predator free locations throughout the islands. Introduced species were relatively easy to find. We were on a guided birding trip\, for 3 of the 5 weeks\,  covering 4200 km. We traveled from the North Island all the way down to Stewart Island in the south.  We saw & photographed interesting birds and encountered amazing scenery along the way.
URL:https://naturecalgary.com/event/bsg-meeting-may-2023/
LOCATION:Zoom\, Alberta\, Canada
CATEGORIES:Bird Study Group
GEO:53.9332706;-116.5765035
END:VEVENT
BEGIN:VEVENT
DTSTART;TZID=America/Edmonton:20230511T083000
DTEND;TZID=America/Edmonton:20230511T110000
DTSTAMP:20260420T053354
CREATED:20230328T003749Z
LAST-MODIFIED:20230505T012713Z
UID:10000724-1683793800-1683802800@naturecalgary.com
SUMMARY:Lafarge Meadows
DESCRIPTION:Lafarge Meadows from 194th St. Please register for all at ibelton@telus.net
URL:https://naturecalgary.com/event/lafarge-meadows/
LOCATION:Alberta\, Canada
CATEGORIES:Field Trips
ORGANIZER;CN="Anne Belton":MAILTO:ibelton@telus.net
GEO:53.9332706;-116.5765035
END:VEVENT
BEGIN:VEVENT
DTSTART;TZID=America/Edmonton:20230512T093000
DTEND;TZID=America/Edmonton:20230512T113000
DTSTAMP:20260420T053354
CREATED:20230321T014329Z
LAST-MODIFIED:20230321T015209Z
UID:10000438-1683883800-1683891000@naturecalgary.com
SUMMARY:Birding On St. Patrick's Island
DESCRIPTION:Join Nature Calgary for a bird walk on St. Patrick’s Island to observe the fascinating variety of birds found in their natural habitat. You may have the opportunity to see Bald Eagles\, Gulls\, and Woodpeckers\, among other species. St. Patrick’s Island offers a picturesque setting for this event. \nOur knowledgeable guide will share fascinating insights about the birds you encounter and their behaviours\, making this a great educational opportunity for nature enthusiasts of all ages. \nWe will have binoculars available for participants who don’t have them. Space is limited so don’t miss your chance to discover the beauty and diversity of Calgary’s birdlife on this exciting bird walk! \nThese walks are presented in partnership between East Village and Nature Calgary\, with all registration fees being donated directly to Nature Calgary. \nAll walks will start and end at East Village Headquarters\, located directly north of 656 Confluence Way SE on the RiverWalk pathway. \nThe upcoming birding event is accessible to all\, regardless of age or ability. \n\nThe pathways are flat. Some pathways are unpaved but they are well compacted.\nNature Calgary has taken measures to accommodate those with sight or hearing impairments\nGuides are knowledgeable about bird calls to assist those with sight impairments\nSight cues will be available for those with hearing impairments\nDogs are not allowed at the event unless medically necessary. This helps ensure the safety and comfort of the wildlife\nThe event is LGBTQ+ friendly\, welcoming people of all orientations and identities.\n\nRegister Here
URL:https://naturecalgary.com/event/birding-on-st-patricks-island-4/
LOCATION:East Village Headquarters\, 656 Confluence Way SE\, Calgary\, Alberta\, T2G 0G1\, Canada
CATEGORIES:Field Trips
GEO:51.04748;-114.04872
X-APPLE-STRUCTURED-LOCATION;VALUE=URI;X-ADDRESS=East Village Headquarters 656 Confluence Way SE Calgary Alberta T2G 0G1 Canada;X-APPLE-RADIUS=500;X-TITLE=656 Confluence Way SE:geo:-114.04872,51.04748
END:VEVENT
BEGIN:VEVENT
DTSTART;TZID=America/Edmonton:20230513T080000
DTEND;TZID=America/Edmonton:20230513T080000
DTSTAMP:20260420T053354
CREATED:20230430T034317Z
LAST-MODIFIED:20230505T012715Z
UID:10000760-1683964800-1683964800@naturecalgary.com
SUMMARY:Frank Lake
DESCRIPTION:Meet in parking lot C at North Glenmore Park. Please register at 403-249-5997 or 404-807-8137 or email oban2010mull@hotmail.com
URL:https://naturecalgary.com/event/frank-lake-9/
LOCATION:Frank Lake\, Alberta\, Canada
CATEGORIES:Field Trips
GEO:50.565158;-113.717183
END:VEVENT
BEGIN:VEVENT
DTSTART;TZID=America/Edmonton:20230513T080000
DTEND;TZID=America/Edmonton:20230513T080000
DTSTAMP:20260420T053354
CREATED:20230503T204625Z
LAST-MODIFIED:20230505T012718Z
UID:10000761-1683964800-1683964800@naturecalgary.com
SUMMARY:Frank Lake
DESCRIPTION:Meet in parking lot C at North Glenmore Park. Please register at 403-249-5997 or 404-807-8137.  Please email oban2010mull@hotmail.com
URL:https://naturecalgary.com/event/frank-lake-10/
LOCATION:Frank Lake\, Alberta\, Canada
CATEGORIES:Field Trips
GEO:50.565158;-113.717183
END:VEVENT
BEGIN:VEVENT
DTSTART;TZID=America/Edmonton:20230517T193000
DTEND;TZID=America/Edmonton:20230517T193000
DTSTAMP:20260420T053354
CREATED:20230514T191123Z
LAST-MODIFIED:20230514T191123Z
UID:10000764-1684351800-1684351800@naturecalgary.com
SUMMARY:Speaker Series (May 2023)
DESCRIPTION:Glenbow Ranch\nPresenter:  Michelle Delorme\, Executive Director Glenbow Ranch Foundation \nProvide a background on the park and the Glenbow Ranch Foundation and what is happening with the park. \nThe Zoom link will be provided in the Nature News newsletter before the event. \n 
URL:https://naturecalgary.com/event/speaker-series-may-2023/
LOCATION:Zoom\, Alberta\, Canada
CATEGORIES:Speaker Series
GEO:53.9332706;-116.5765035
END:VEVENT
BEGIN:VEVENT
DTSTART;TZID=America/Edmonton:20230519T103000
DTEND;TZID=America/Edmonton:20230519T120000
DTSTAMP:20260420T053354
CREATED:20230513T040415Z
LAST-MODIFIED:20230517T011508Z
UID:10000763-1684492200-1684497600@naturecalgary.com
SUMMARY:Confluence Park
DESCRIPTION:Please email Betty Millham at bmillham@shaw.ca to register.
URL:https://naturecalgary.com/event/confluence-park-3/
LOCATION:Confluence Park\, 300 Beddington Blvd NE\, Calgary\, Alberta\, Canada
CATEGORIES:Field Trips
ORGANIZER;CN="Betty Millham":MAILTO:bmillham*@*shaw.ca
GEO:51.128111;-114.052118
X-APPLE-STRUCTURED-LOCATION;VALUE=URI;X-ADDRESS=Confluence Park 300 Beddington Blvd NE Calgary Alberta Canada;X-APPLE-RADIUS=500;X-TITLE=300 Beddington Blvd NE:geo:-114.052118,51.128111
END:VEVENT
BEGIN:VEVENT
DTSTART;TZID=America/Edmonton:20230520T100000
DTEND;TZID=America/Edmonton:20230520T100000
DTSTAMP:20260420T053354
CREATED:20230430T034835Z
LAST-MODIFIED:20230505T012720Z
UID:10000762-1684576800-1684576800@naturecalgary.com
SUMMARY:Edworthy Park Nature Walk
DESCRIPTION:Meet at the south parking lot down the hill from the west end of Spruce Drive SW. Please register with leader John McFaul at alpglow@telus.net or 403 289-9517.
URL:https://naturecalgary.com/event/edworthy-park-nature-walk/
LOCATION:Edworthy Park (west parking lot)\, 5050 Spruce Dr SW\, Calgary\, Alberta\, T3C 3B2\, Canada
CATEGORIES:Field Trips
ORGANIZER;CN="John McFaul":MAILTO:alpglow@telus.net
GEO:51.0631995;-114.1585146
X-APPLE-STRUCTURED-LOCATION;VALUE=URI;X-ADDRESS=Edworthy Park (west parking lot) 5050 Spruce Dr SW Calgary Alberta T3C 3B2 Canada;X-APPLE-RADIUS=500;X-TITLE=5050 Spruce Dr SW:geo:-114.1585146,51.0631995
END:VEVENT
BEGIN:VEVENT
DTSTART;TZID=America/Edmonton:20230522T053000
DTEND;TZID=America/Edmonton:20230522T053000
DTSTAMP:20260420T053354
CREATED:20230513T041034Z
LAST-MODIFIED:20230518T021355Z
UID:10000765-1684733400-1684733400@naturecalgary.com
SUMMARY:Victoria Day - Annual Nature Calgary Big Day
DESCRIPTION:See over 100 species at various locations within Calgary. Be prepared to be out all day. Bring appropriate clothing\, food and water. Registered participants will be advised of the meeting location to organize car-pooling prior to the event. Please email: Bob Lefebvre at wbird7@gmail.com by May 20. Registration required.
URL:https://naturecalgary.com/event/victoria-day-annual-nature-calgary-big-day-2/
LOCATION:Alberta\, Canada
CATEGORIES:Field Trips,Special Trips
ORGANIZER;CN="Bob Lefebvre":MAILTO:wbird7@gmail.com
GEO:53.9332706;-116.5765035
END:VEVENT
BEGIN:VEVENT
DTSTART;TZID=America/Edmonton:20230522T093000
DTEND;TZID=America/Edmonton:20230522T113000
DTSTAMP:20260420T053354
CREATED:20230321T014329Z
LAST-MODIFIED:20230321T015237Z
UID:10000437-1684747800-1684755000@naturecalgary.com
SUMMARY:Birding On St. Patrick's Island
DESCRIPTION:Join Nature Calgary for a bird walk on St. Patrick’s Island to observe the fascinating variety of birds found in their natural habitat. You may have the opportunity to see Bald Eagles\, Gulls\, and Woodpeckers\, among other species. St. Patrick’s Island offers a picturesque setting for this event. \nOur knowledgeable guide will share fascinating insights about the birds you encounter and their behaviours\, making this a great educational opportunity for nature enthusiasts of all ages. \nWe will have binoculars available for participants who don’t have them. Space is limited so don’t miss your chance to discover the beauty and diversity of Calgary’s birdlife on this exciting bird walk! \nThese walks are presented in partnership between East Village and Nature Calgary\, with all registration fees being donated directly to Nature Calgary. \nAll walks will start and end at East Village Headquarters\, located directly north of 656 Confluence Way SE on the RiverWalk pathway. \nThe upcoming birding event is accessible to all\, regardless of age or ability. \n\nThe pathways are flat. Some pathways are unpaved but they are well compacted.\nNature Calgary has taken measures to accommodate those with sight or hearing impairments\nGuides are knowledgeable about bird calls to assist those with sight impairments\nSight cues will be available for those with hearing impairments\nDogs are not allowed at the event unless medically necessary. This helps ensure the safety and comfort of the wildlife\nThe event is LGBTQ+ friendly\, welcoming people of all orientations and identities.\n\nRegister Here
URL:https://naturecalgary.com/event/birding-on-st-patricks-island-5/
LOCATION:East Village Headquarters\, 656 Confluence Way SE\, Calgary\, Alberta\, T2G 0G1\, Canada
CATEGORIES:Field Trips
GEO:51.04748;-114.04872
X-APPLE-STRUCTURED-LOCATION;VALUE=URI;X-ADDRESS=East Village Headquarters 656 Confluence Way SE Calgary Alberta T2G 0G1 Canada;X-APPLE-RADIUS=500;X-TITLE=656 Confluence Way SE:geo:-114.04872,51.04748
END:VEVENT
BEGIN:VEVENT
DTSTART;TZID=America/Edmonton:20230527T090000
DTEND;TZID=America/Edmonton:20230527T090000
DTSTAMP:20260420T053354
CREATED:20230430T034508Z
LAST-MODIFIED:20230505T012722Z
UID:10000758-1685178000-1685178000@naturecalgary.com
SUMMARY:North Glenmore Park
DESCRIPTION:Meet in parking lot C at North Glenmore Park. Please register at 403-249-5997 or 404-807-8137 or email oban2010mull@hotmail.com
URL:https://naturecalgary.com/event/north-glenmore-park-2/
LOCATION:North Glenmore Park (Parking Lot C)
CATEGORIES:Field Trips
GEO:50.986465;-114.124046
END:VEVENT
END:VCALENDAR