BEGIN:VCALENDAR
VERSION:2.0
PRODID:-//Nature Calgary - ECPv6.15.20//NONSGML v1.0//EN
CALSCALE:GREGORIAN
METHOD:PUBLISH
X-WR-CALNAME:Nature Calgary
X-ORIGINAL-URL:https://naturecalgary.com
X-WR-CALDESC:Events for Nature Calgary
REFRESH-INTERVAL;VALUE=DURATION:PT1H
X-Robots-Tag:noindex
X-PUBLISHED-TTL:PT1H
BEGIN:VTIMEZONE
TZID:America/Edmonton
BEGIN:DAYLIGHT
TZOFFSETFROM:-0700
TZOFFSETTO:-0600
TZNAME:MDT
DTSTART:20220313T090000
END:DAYLIGHT
BEGIN:STANDARD
TZOFFSETFROM:-0600
TZOFFSETTO:-0700
TZNAME:MST
DTSTART:20221106T080000
END:STANDARD
BEGIN:DAYLIGHT
TZOFFSETFROM:-0700
TZOFFSETTO:-0600
TZNAME:MDT
DTSTART:20230312T090000
END:DAYLIGHT
BEGIN:STANDARD
TZOFFSETFROM:-0600
TZOFFSETTO:-0700
TZNAME:MST
DTSTART:20231105T080000
END:STANDARD
BEGIN:DAYLIGHT
TZOFFSETFROM:-0700
TZOFFSETTO:-0600
TZNAME:MDT
DTSTART:20240310T090000
END:DAYLIGHT
BEGIN:STANDARD
TZOFFSETFROM:-0600
TZOFFSETTO:-0700
TZNAME:MST
DTSTART:20241103T080000
END:STANDARD
BEGIN:DAYLIGHT
TZOFFSETFROM:-0700
TZOFFSETTO:-0600
TZNAME:MDT
DTSTART:20250309T090000
END:DAYLIGHT
BEGIN:STANDARD
TZOFFSETFROM:-0600
TZOFFSETTO:-0700
TZNAME:MST
DTSTART:20251102T080000
END:STANDARD
END:VTIMEZONE
BEGIN:VEVENT
DTSTART;TZID=America/Edmonton:20240209T090000
DTEND;TZID=America/Edmonton:20240209T110000
DTSTAMP:20260419T102752
CREATED:20240111T053928Z
LAST-MODIFIED:20240111T054012Z
UID:10000814-1707469200-1707476400@naturecalgary.com
SUMMARY:Votier's Flats
DESCRIPTION:Please register at ibelton@telus.net
URL:https://naturecalgary.com/event/votiers-flats-5/
LOCATION:Votier’s Flats\, Calgary\, AB\, Canada
CATEGORIES:Field Trips
ORGANIZER;CN="Anne Belton":MAILTO:ibelton@telus.net
GEO:51.0447331;-114.0718831
END:VEVENT
BEGIN:VEVENT
DTSTART;TZID=America/Edmonton:20240207T193000
DTEND;TZID=America/Edmonton:20240207T193000
DTSTAMP:20260419T102752
CREATED:20240114T234241Z
LAST-MODIFIED:20240114T234301Z
UID:10000820-1707334200-1707334200@naturecalgary.com
SUMMARY:Bird Study Group Meeting (February 2024)
DESCRIPTION:Presenter: Terry Bird\nTopic: How technology is changing how we see birds \nBird banding and band recoveries are among the oldest techniques used to study migratory routes of birds. Today\, technology is changing how we can learn from birds\, and much of what we are learning is very surprising. Join us to hear about extraordinary new methods to learn about birds\, and some amazing new discoveries. \nZoom information will be sent to Nature Calgary members before the event.
URL:https://naturecalgary.com/event/bird-study-group-meeting-february-2024/
LOCATION:Zoom\, Alberta\, Canada
CATEGORIES:Bird Study Group
GEO:53.9332706;-116.5765035
END:VEVENT
BEGIN:VEVENT
DTSTART;TZID=America/Edmonton:20240203T093000
DTEND;TZID=America/Edmonton:20240203T160000
DTSTAMP:20260419T102752
CREATED:20240113T182953Z
LAST-MODIFIED:20240113T183020Z
UID:10000817-1706952600-1706976000@naturecalgary.com
SUMMARY:Early February Winter Round-Up
DESCRIPTION:We go east of Calgary in search of winter visitors and others\, weather permitting. Chances for Snowy\, Short-eared\, and Great Horned owls; Bald Eagles; Rough-legged Hawks; Ring-necked Pheasants and Gray Partridge; Snow Buntings and Redpolls\, both Common and Hoary Redpolls\, Horned Larks\, and others. We usually find some surprises. Meeting place is the west end of the Deerfoot City parking lot at Deerfoot Trail and 64 Avenue. Trip will go until approx.. 3:30-4:00 P.M.. Break halfway in Strathmore. Carpooling allowed. Bring lunch. Register with leader Terry Korolyk at 403-254-1878\, or\, piidpiper@hotmail.ca.
URL:https://naturecalgary.com/event/early-february-winter-round-up/
CATEGORIES:Field Trips
END:VEVENT
BEGIN:VEVENT
DTSTART;TZID=America/Edmonton:20240202T090000
DTEND;TZID=America/Edmonton:20240202T110000
DTSTAMP:20260419T102752
CREATED:20231218T220454Z
LAST-MODIFIED:20231218T220544Z
UID:10000812-1706864400-1706871600@naturecalgary.com
SUMMARY:Carburn Park
DESCRIPTION:Please register at ibelton@telus.net
URL:https://naturecalgary.com/event/carburn-park-15/
LOCATION:Carburn Park\, 67 Riverview Dr. S.E.\, Calgary\, Alberta\, T2C4H8\, Canada
CATEGORIES:Field Trips
ORGANIZER;CN="Anne Belton":MAILTO:ibelton@telus.net
GEO:50.973327;-114.026105
X-APPLE-STRUCTURED-LOCATION;VALUE=URI;X-ADDRESS=Carburn Park 67 Riverview Dr. S.E. Calgary Alberta T2C4H8 Canada;X-APPLE-RADIUS=500;X-TITLE=67 Riverview Dr. S.E.:geo:-114.026105,50.973327
END:VEVENT
BEGIN:VEVENT
DTSTART;TZID=America/Edmonton:20240127T090000
DTEND;TZID=America/Edmonton:20240127T090000
DTSTAMP:20260419T102752
CREATED:20231218T220316Z
LAST-MODIFIED:20231218T220343Z
UID:10000811-1706346000-1706346000@naturecalgary.com
SUMMARY:North Glenmore Park
DESCRIPTION:Meet in parking lot C at North Glenmore Park. Please register with Penny Smith at 403-249-5997 or 404-807-8137. Please email oban2010mull@hotmail.com
URL:https://naturecalgary.com/event/north-glenmore-park-8/
LOCATION:North Glenmore Park (Parking Lot C)
CATEGORIES:Field Trips
GEO:50.986465;-114.124046
END:VEVENT
BEGIN:VEVENT
DTSTART;TZID=America/Edmonton:20240121T100000
DTEND;TZID=America/Edmonton:20240121T100000
DTSTAMP:20260419T102752
CREATED:20231218T234927Z
LAST-MODIFIED:20240113T181932Z
UID:10000813-1705831200-1705831200@naturecalgary.com
SUMMARY:Inglewood Bird Sanctuary
DESCRIPTION:Meet at IBS parking lot at 9 Ave and 23 Street SE. Ice grippers are recommended. Please register with leader John McFaul: alpglow@telus.net or 403 289-9517.
URL:https://naturecalgary.com/event/inglewood-bird-sanctuary-22/
LOCATION:Inglewood Bird Sanctuary (Outside on 9 Ave SE)
CATEGORIES:Field Trips
ORGANIZER;CN="John McFaul":MAILTO:alpglow@telus.net
GEO:51.031728;-114.012391
END:VEVENT
BEGIN:VEVENT
DTSTART;TZID=America/Edmonton:20240117T193000
DTEND;TZID=America/Edmonton:20240117T193000
DTSTAMP:20260419T102752
CREATED:20240114T234034Z
LAST-MODIFIED:20240114T234034Z
UID:10000819-1705519800-1705519800@naturecalgary.com
SUMMARY:Speaker Series (January 2024)
DESCRIPTION:Presenter: Carol Patterson CPA\, CMA\, FRCGS Fellow of Royal Canadian Geographical Society Six-time winner of Travel Media Association of Canada’s Best Environmental/Responsible Tourism Feature\n \nCalgary has a lofty goal to restore some of its roadsides\, boulevards and other open spaces to a more natural state. Here’s a look at some biodiversity-friendly projects already underway. Also an introduction to the Royal Canadian Geographic Society’s “Network of Nature” program which aims to inspire Canadians to improve the long-term health of our ecosystems through the planting of native species.\n \nPresenter Bio: Her travel writing has been featured in National Geographic\, CanGeoTravel\, Explore\, Fodor’s Travel\, BBC Travel\, Saltscapes\, WestJet\, FamilyFunCanada and many others. She has authored several books including Sustainable Tourism: Business Development\, Operations and Management and The Business of Ecotourism.\n \nZoom link will be sent by email to Nature Calgary members.
URL:https://naturecalgary.com/event/speaker-series-january-2024/
LOCATION:Zoom\, Alberta\, Canada
CATEGORIES:Speaker Series
GEO:53.9332706;-116.5765035
END:VEVENT
BEGIN:VEVENT
DTSTART;TZID=America/Edmonton:20240105T090000
DTEND;TZID=America/Edmonton:20240105T110000
DTSTAMP:20260419T102752
CREATED:20231218T215727Z
LAST-MODIFIED:20231218T215756Z
UID:10000809-1704445200-1704452400@naturecalgary.com
SUMMARY:Shannon Terrace
DESCRIPTION:Please register at ibelton@telus.net
URL:https://naturecalgary.com/event/shannon-terrace-6/
LOCATION:Shannon Terrace Amphitheatre (Fish Creek Provincial Park)\, Alberta\, Canada
CATEGORIES:Field Trips
ORGANIZER;CN="Anne Belton":MAILTO:ibelton@telus.net
GEO:50.927439;-114.129862
END:VEVENT
BEGIN:VEVENT
DTSTART;TZID=America/Edmonton:20231230T090000
DTEND;TZID=America/Edmonton:20231230T090000
DTSTAMP:20260419T102752
CREATED:20231030T160036Z
LAST-MODIFIED:20231030T160200Z
UID:10000804-1703926800-1703926800@naturecalgary.com
SUMMARY:North Glenmore Park
DESCRIPTION:Meet in parking lot C at North Glenmore Park. Please register with Penny Smith at 403-249-5997 or 404-807-8137. Please email oban2010mull@hotmail.com
URL:https://naturecalgary.com/event/north-glenmore-park-7/
LOCATION:North Glenmore Park (Parking Lot C)
CATEGORIES:Field Trips
GEO:50.986465;-114.124046
END:VEVENT
BEGIN:VEVENT
DTSTART;TZID=America/Edmonton:20231220T193000
DTEND;TZID=America/Edmonton:20231220T193000
DTSTAMP:20260419T102752
CREATED:20231205T035032Z
LAST-MODIFIED:20231205T035032Z
UID:10000808-1703100600-1703100600@naturecalgary.com
SUMMARY:Speaker Series (December 2023)
DESCRIPTION:Presentation: Biodiversity by Design: A birds and bees tour of Calgary \nPresenter: Carol Patterson CPA\, CMA\, FRCGS\nFellow of Royal Canadian Geographical Society\nSix-time winner of Travel Media Association of Canada’s Best Environmental/Responsible Tourism Feature \nHer travel writing has been featured in National Geographic\, CanGeoTravel\, Explore\, Fodor’s Travel\, BBC Travel\, Saltscapes\, WestJet\, FamilyFunCanada and many others. She has authored several books including Sustainable Tourism: Business Development\, Operations and Management and The Business of Ecotourism. \nSubject: Calgary has a lofty goal to restore some of its roadsides\, boulevards and other open spaces to a more natural state. Here’s a look at some biodiversity-friendly projects already underway. Also an introduction to the Royal Canadian Geographic Society’s “Network of Nature” program which aims to inspire Canadians to improve the long-term health of our ecosystems through the planting of native species. \nZoom information will be sent to members before the event.
URL:https://naturecalgary.com/event/speaker-series-december-2023/
LOCATION:Zoom\, Alberta\, Canada
CATEGORIES:Speaker Series
GEO:53.9332706;-116.5765035
END:VEVENT
BEGIN:VEVENT
DTSTART;TZID=America/Edmonton:20231215T090000
DTEND;TZID=America/Edmonton:20231215T110000
DTSTAMP:20260419T102752
CREATED:20231127T182858Z
LAST-MODIFIED:20231127T182941Z
UID:10000807-1702630800-1702638000@naturecalgary.com
SUMMARY:Bebo Grove
DESCRIPTION:Please register with leader Anne Belton at ibelton@telus.net
URL:https://naturecalgary.com/event/bebo-grove-12/
LOCATION:Bebo Grove\, Fish Creek Provincial Park\, 13610 24 St SW\, Calgary\, Alberta\, Canada
CATEGORIES:Field Trips
ORGANIZER;CN="Anne Belton":MAILTO:ibelton@telus.net
GEO:50.9296302;-114.1156558
X-APPLE-STRUCTURED-LOCATION;VALUE=URI;X-ADDRESS=Bebo Grove Fish Creek Provincial Park 13610 24 St SW Calgary Alberta Canada;X-APPLE-RADIUS=500;X-TITLE=13610 24 St SW:geo:-114.1156558,50.9296302
END:VEVENT
BEGIN:VEVENT
DTSTART;TZID=America/Edmonton:20231210T100000
DTEND;TZID=America/Edmonton:20231210T100000
DTSTAMP:20260419T102752
CREATED:20231125T030024Z
LAST-MODIFIED:20231125T030119Z
UID:10000805-1702202400-1702202400@naturecalgary.com
SUMMARY:Bowness Park
DESCRIPTION:Meet in the main parking lot\, 8900 48 Ave NW\, at 10:00 AM. Please register with the leader John McFaul at alpglow@telus.net or 403-289-9517
URL:https://naturecalgary.com/event/bowness-park/
CATEGORIES:Field Trips
ORGANIZER;CN="John McFaul":MAILTO:alpglow@telus.net
END:VEVENT
BEGIN:VEVENT
DTSTART;TZID=America/Edmonton:20231208T090000
DTEND;TZID=America/Edmonton:20231208T110000
DTSTAMP:20260419T102752
CREATED:20231127T182400Z
LAST-MODIFIED:20231127T182437Z
UID:10000806-1702026000-1702033200@naturecalgary.com
SUMMARY:Carburn Park
DESCRIPTION:Please register with leader Anne Belton at ibelton@telus.net
URL:https://naturecalgary.com/event/carburn-park-14/
LOCATION:Carburn Park\, 67 Riverview Dr. S.E.\, Calgary\, Alberta\, T2C4H8\, Canada
CATEGORIES:Field Trips
ORGANIZER;CN="Anne Belton":MAILTO:ibelton@telus.net
GEO:50.973327;-114.026105
X-APPLE-STRUCTURED-LOCATION;VALUE=URI;X-ADDRESS=Carburn Park 67 Riverview Dr. S.E. Calgary Alberta T2C4H8 Canada;X-APPLE-RADIUS=500;X-TITLE=67 Riverview Dr. S.E.:geo:-114.026105,50.973327
END:VEVENT
BEGIN:VEVENT
DTSTART;TZID=America/Edmonton:20231201T090000
DTEND;TZID=America/Edmonton:20231201T110000
DTSTAMP:20260419T102752
CREATED:20231022T203551Z
LAST-MODIFIED:20231022T203622Z
UID:10000799-1701421200-1701428400@naturecalgary.com
SUMMARY:Shannon Terrace
DESCRIPTION:Meet in the furthest parking lot. Please register at ibelton@telus.net
URL:https://naturecalgary.com/event/shannon-terrace-5/
LOCATION:Shannon Terrace Amphitheatre (Fish Creek Provincial Park)\, Alberta\, Canada
CATEGORIES:Field Trips
ORGANIZER;CN="Anne Belton":MAILTO:ibelton@telus.net
GEO:50.927439;-114.129862
END:VEVENT
BEGIN:VEVENT
DTSTART;TZID=America/Edmonton:20231128T100000
DTEND;TZID=America/Edmonton:20231128T150000
DTSTAMP:20260419T102752
CREATED:20231023T012148Z
LAST-MODIFIED:20231023T012206Z
UID:10000800-1701165600-1701183600@naturecalgary.com
SUMMARY:Out-of-town Trip to Highwood Pass
DESCRIPTION:(If the weather forecast looks terrible\, we may go the next day.) We will try for White-tailed Ptarmigan. Other target is Gray-crowned Rosy-finch. We will meet in the parking lot at Highwood Pass at 10:00 AM (approx. 2 hr drive from Calgary). Please contact me with questions and to register. Leader; Howard Heffler\, at howhef@gmail.com. 403-804-2489 (cell). Limit of 10 participants and five vehicles. We will try to sort out carpool arrangements after we have the participant list.
URL:https://naturecalgary.com/event/out-of-town-trip-to-highwood-pass/
CATEGORIES:Field Trips
END:VEVENT
BEGIN:VEVENT
DTSTART;TZID=America/Edmonton:20231125T090000
DTEND;TZID=America/Edmonton:20231125T090000
DTSTAMP:20260419T102752
CREATED:20231030T155323Z
LAST-MODIFIED:20231030T155404Z
UID:10000803-1700902800-1700902800@naturecalgary.com
SUMMARY:North Glenmore Park
DESCRIPTION:Meet in parking lot C at North Glenmore Park. Please register with Penny Smith at 403-249-5997 or 404-807-8137. Please email oban2010mull@hotmail.com
URL:https://naturecalgary.com/event/north-glenmore-park-6/
LOCATION:North Glenmore Park (Parking Lot C)
CATEGORIES:Field Trips
GEO:50.986465;-114.124046
END:VEVENT
BEGIN:VEVENT
DTSTART;TZID=America/Edmonton:20231124T090000
DTEND;TZID=America/Edmonton:20231124T110000
DTSTAMP:20260419T102752
CREATED:20231022T203357Z
LAST-MODIFIED:20231022T203417Z
UID:10000798-1700816400-1700823600@naturecalgary.com
SUMMARY:Lafarge Meadows
DESCRIPTION:Meet at Boat Launch. Please register leader Anne Belton at ibelton@telus.net \n 
URL:https://naturecalgary.com/event/lafarge-meadows-2/
CATEGORIES:Field Trips
ORGANIZER;CN="Anne Belton":MAILTO:ibelton@telus.net
END:VEVENT
BEGIN:VEVENT
DTSTART;TZID=America/Edmonton:20231117T090000
DTEND;TZID=America/Edmonton:20231117T110000
DTSTAMP:20260419T102752
CREATED:20231022T203038Z
LAST-MODIFIED:20231022T203059Z
UID:10000797-1700211600-1700218800@naturecalgary.com
SUMMARY:Carburn Park
DESCRIPTION:Please register with leader Anne Belton at ibelton@telus.net
URL:https://naturecalgary.com/event/carburn-park-13/
LOCATION:Carburn Park\, 67 Riverview Dr. S.E.\, Calgary\, Alberta\, T2C4H8\, Canada
CATEGORIES:Field Trips
ORGANIZER;CN="Anne Belton":MAILTO:ibelton@telus.net
GEO:50.973327;-114.026105
X-APPLE-STRUCTURED-LOCATION;VALUE=URI;X-ADDRESS=Carburn Park 67 Riverview Dr. S.E. Calgary Alberta T2C4H8 Canada;X-APPLE-RADIUS=500;X-TITLE=67 Riverview Dr. S.E.:geo:-114.026105,50.973327
END:VEVENT
BEGIN:VEVENT
DTSTART;TZID=America/Edmonton:20231112T100000
DTEND;TZID=America/Edmonton:20231112T100000
DTSTAMP:20260419T102752
CREATED:20231027T045504Z
LAST-MODIFIED:20231027T045532Z
UID:10000802-1699783200-1699783200@naturecalgary.com
SUMMARY:Bird Dale Hodges Park
DESCRIPTION:NW Calgary. From 16 Ave NW take Home Road north to 52nd Street NW\, turn left and then the first right into the parking lot behind Maranatha Church. Please register with leader: John McFaul at alpglow@telus.net or 403-289-9517
URL:https://naturecalgary.com/event/bird-dale-hodges-park-8/
LOCATION:Dale Hodges Park\, Alberta\, Canada
CATEGORIES:Field Trips
ORGANIZER;CN="John McFaul":MAILTO:alpglow@telus.net
GEO:51.087193;-114.169884
END:VEVENT
BEGIN:VEVENT
DTSTART;TZID=America/Edmonton:20231104T093000
DTEND;TZID=America/Edmonton:20231104T093000
DTSTAMP:20260419T102752
CREATED:20231027T045145Z
LAST-MODIFIED:20231027T045211Z
UID:10000801-1699090200-1699090200@naturecalgary.com
SUMMARY:Inglewood Bird Sanctuary
DESCRIPTION:Meet at IBS parking lot at 9 Ave and 23 Street SE. Please register with leader: John McFaul at alpglow@telus.net or 403-289-9517
URL:https://naturecalgary.com/event/inglewood-bird-sanctuary-20/
LOCATION:Inglewood Bird Sanctuary (Outside on 9 Ave SE)
CATEGORIES:Field Trips
ORGANIZER;CN="John McFaul":MAILTO:alpglow@telus.net
GEO:51.031728;-114.012391
END:VEVENT
BEGIN:VEVENT
DTSTART;TZID=America/Edmonton:20231028T090000
DTEND;TZID=America/Edmonton:20231028T090000
DTSTAMP:20260419T102752
CREATED:20231003T015527Z
LAST-MODIFIED:20231003T015642Z
UID:10000795-1698483600-1698483600@naturecalgary.com
SUMMARY:North Glenmore Park
DESCRIPTION:Please contact trip leader Penny Smith at 403-249-5997 or 404-807-8137 or please email oban2010mull@hotmail.com to register for this trip or for any questions.
URL:https://naturecalgary.com/event/north-glenmore-park-5/
LOCATION:North Glenmore Park (Parking Lot C)
CATEGORIES:Field Trips
GEO:50.986465;-114.124046
END:VEVENT
BEGIN:VEVENT
DTSTART;TZID=America/Edmonton:20231018T193000
DTEND;TZID=America/Edmonton:20231018T193000
DTSTAMP:20260419T102752
CREATED:20231011T012233Z
LAST-MODIFIED:20231011T012328Z
UID:10000796-1697657400-1697657400@naturecalgary.com
SUMMARY:Speaker Series (October 2023)
DESCRIPTION:Presentation title: Maintaining Wildlife Movement in the Calgary Region \nThe presenter will be Nicole Kaha Conservation Analyst Miistakis Institute \nWhat is ecological connectivity and why is it important? What are the challenges to maintaining ecological connectivity in our region? Learn how the Miistakis Institute and partners are addressing the pressing need to maintain ecological connectivity through monitoring wildlife with camera-traps\, determining amphibian presence\, and ultimately delineating a regional ecological network to be protected. Project partners are the City of Calgary\, Foothills County\, Rocky View County\, Friends of Fish Creek\, Weaselhead/Glenmore Park Preservation Society and Alberta Forestry and Parks. \nBio:\nNicole Kahal is a Conservation Analyst with the Miistakis Institute\, a not-for-profit applied conservation research institute affiliated with Mount Royal University. At Miistakis\, Nicole focuses on the research areas of ecological connectivity\, biodiversity\, and ecosystem-based climate adaptation. Nicole holds a Master of Environmental Science and Management from University of California\, Santa Barbara\, and a Bachelor of Science from the University of Arizona. \nZoom information will be sent to members before the event.
URL:https://naturecalgary.com/event/speaker-series-october-2023/
LOCATION:Zoom\, Alberta\, Canada
CATEGORIES:Speaker Series
GEO:53.9332706;-116.5765035
END:VEVENT
BEGIN:VEVENT
DTSTART;TZID=America/Edmonton:20231014T090000
DTEND;TZID=America/Edmonton:20231014T090000
DTSTAMP:20260419T102752
CREATED:20230927T035844Z
LAST-MODIFIED:20230927T035904Z
UID:10000792-1697274000-1697274000@naturecalgary.com
SUMMARY:Carburne Park Walk
DESCRIPTION:Please register for this trip with leader Nimali by email ntfern@telus.net or by mobile 403-836-5146
URL:https://naturecalgary.com/event/carburne-park-walk/
LOCATION:Carburn Park\, 67 Riverview Dr. S.E.\, Calgary\, Alberta\, T2C4H8\, Canada
CATEGORIES:Field Trips
ORGANIZER;CN="Nimali Seneviratne":MAILTO:ntfern@telus.net
GEO:50.973327;-114.026105
X-APPLE-STRUCTURED-LOCATION;VALUE=URI;X-ADDRESS=Carburn Park 67 Riverview Dr. S.E. Calgary Alberta T2C4H8 Canada;X-APPLE-RADIUS=500;X-TITLE=67 Riverview Dr. S.E.:geo:-114.026105,50.973327
END:VEVENT
BEGIN:VEVENT
DTSTART;TZID=America/Edmonton:20231009T093000
DTEND;TZID=America/Edmonton:20231009T113000
DTSTAMP:20260419T102752
CREATED:20230321T014329Z
LAST-MODIFIED:20230321T015553Z
UID:10000720-1696843800-1696851000@naturecalgary.com
SUMMARY:Birding On St. Patrick's Island
DESCRIPTION:Join Nature Calgary for a bird walk on St. Patrick’s Island to observe the fascinating variety of birds found in their natural habitat. You may have the opportunity to see Bald Eagles\, Gulls\, and Woodpeckers\, among other species. St. Patrick’s Island offers a picturesque setting for this event. \nOur knowledgeable guide will share fascinating insights about the birds you encounter and their behaviours\, making this a great educational opportunity for nature enthusiasts of all ages. \nWe will have binoculars available for participants who don’t have them. Space is limited so don’t miss your chance to discover the beauty and diversity of Calgary’s birdlife on this exciting bird walk! \nThese walks are presented in partnership between East Village and Nature Calgary\, with all registration fees being donated directly to Nature Calgary. \nAll walks will start and end at East Village Headquarters\, located directly north of 656 Confluence Way SE on the RiverWalk pathway. \nThe upcoming birding event is accessible to all\, regardless of age or ability. \n\nThe pathways are flat. Some pathways are unpaved but they are well compacted.\nNature Calgary has taken measures to accommodate those with sight or hearing impairments\nGuides are knowledgeable about bird calls to assist those with sight impairments\nSight cues will be available for those with hearing impairments\nDogs are not allowed at the event unless medically necessary. This helps ensure the safety and comfort of the wildlife\nThe event is LGBTQ+ friendly\, welcoming people of all orientations and identities.\n\nRegister Here
URL:https://naturecalgary.com/event/birding-on-st-patricks-island-11/
LOCATION:East Village Headquarters\, 656 Confluence Way SE\, Calgary\, Alberta\, T2G 0G1\, Canada
CATEGORIES:Field Trips
GEO:51.04748;-114.04872
X-APPLE-STRUCTURED-LOCATION;VALUE=URI;X-ADDRESS=East Village Headquarters 656 Confluence Way SE Calgary Alberta T2G 0G1 Canada;X-APPLE-RADIUS=500;X-TITLE=656 Confluence Way SE:geo:-114.04872,51.04748
END:VEVENT
BEGIN:VEVENT
DTSTART;TZID=America/Edmonton:20231004T193000
DTEND;TZID=America/Edmonton:20231004T193000
DTSTAMP:20260419T102752
CREATED:20230930T141445Z
LAST-MODIFIED:20231011T012143Z
UID:10000794-1696447800-1696447800@naturecalgary.com
SUMMARY:BSG Meeting - Oct 2023
DESCRIPTION:What: Bird Study Group – Birds Canada!\nWhen: Wednesday\, October 4\, 2023\nTime: 7:30PM\nPresenters: Andrea Gress and Amanda Bichel with Birds Canada \nJoin Andrea and Amanda as they speak to what and who Birds Canada is followed by what they both do there.  Andrea will speak on behalf of the Ontario Piping Plover Conservation Program and their podcast “The Warblers”.  Amanda will discuss key biodiversity areas in Alberta and provide some Alberta examples. \nPresenter Bios\nAndrea Gress: Andrea Gress (she/her) studied Renewable Resource Management at the University of Saskatchewan. She pivoted towards birds\, after an internship in South Africa. Upon returning\, she worked with Piping Plovers in Saskatchewan and now coordinates the Ontario Piping Plover Conservation Program for Birds Canada. She also hosts the Warblers Podcast for Birds Canada\, where she sneaks plover related content into as many episodes as possible! \nAmanda Bichel: I have a background in Environmental Studies and Biology\, and have worked with birds\, bats\, soil\, and water. Connecting with nature is what motivates me to work in conservation\, and the hope that the next generation has the same (or better) opportunity to experience the beauty of nature I’ve enjoyed my whole life. My role is to coordinate the Key Biodiversity Areas Program for Birds Canada. I get to work with partners\, experts\, government\, Indigenous Communities\, and more on transitioning our Important Bird and Biodiversity Areas to KBAs. I am lucky to work with enthusiastic\, dedicated people to identify the most important places for biodiversity in Canada. Identifying these amazing places is the first step to meaningful conservation. \nLINK TO JOIN: https://us06web.zoom.us/j/85613162957?pwd=q88iaTI6KpGb45DH4eL52ZGDZFDdhk.1
URL:https://naturecalgary.com/event/bsg-meeting-oct-2023/
LOCATION:Zoom\, Alberta\, Canada
CATEGORIES:Bird Study Group
GEO:53.9332706;-116.5765035
END:VEVENT
BEGIN:VEVENT
DTSTART;TZID=America/Edmonton:20230930T090000
DTEND;TZID=America/Edmonton:20230930T090000
DTSTAMP:20260419T102752
CREATED:20230813T060914Z
LAST-MODIFIED:20230813T060936Z
UID:10000789-1696064400-1696064400@naturecalgary.com
SUMMARY:North Glenmore Park
DESCRIPTION:Meet in parking lot C at North Glenmore Park. Please register with Penny Smith at 403-249-5997 or 404-807-8137.  Please email oban2010mull@hotmail.com
URL:https://naturecalgary.com/event/north-glenmore-park-4/
LOCATION:North Glenmore Park (Parking Lot C)
CATEGORIES:Field Trips
GEO:50.986465;-114.124046
END:VEVENT
BEGIN:VEVENT
DTSTART;TZID=America/Edmonton:20230927T193000
DTEND;TZID=America/Edmonton:20230927T193000
DTSTAMP:20260419T102752
CREATED:20230927T155247Z
LAST-MODIFIED:20230927T155247Z
UID:10000793-1695843000-1695843000@naturecalgary.com
SUMMARY:Speaker Series (September 2023)
DESCRIPTION:Lake O’Hara – The Jewel of the Canadian Rockies\nPresenter: John McFaul  \nThe Zoom link will be provided in the Nature News newsletter before the event. \n 
URL:https://naturecalgary.com/event/speaker-series-sept-2023/
LOCATION:Zoom\, Alberta\, Canada
CATEGORIES:Speaker Series
GEO:53.9332706;-116.5765035
END:VEVENT
BEGIN:VEVENT
DTSTART;TZID=America/Edmonton:20230924T090000
DTEND;TZID=America/Edmonton:20230924T090000
DTSTAMP:20260419T102752
CREATED:20230813T061256Z
LAST-MODIFIED:20230813T061312Z
UID:10000791-1695546000-1695546000@naturecalgary.com
SUMMARY:Inglewood Bird Sanctuary
DESCRIPTION:Meet at the parking lot. \nPlease register with leader ntfern@telus.net
URL:https://naturecalgary.com/event/inglewood-bird-sanctuary-21/
LOCATION:Inglewood Bird Sanctuary\, 2425 9 Ave SE\, Calgary\, Alberta\, T2G 4T4\, Canada
CATEGORIES:Field Trips
ORGANIZER;CN="Nimali Seneviratne":MAILTO:ntfern@telus.net
GEO:51.0301705;-114.00986
X-APPLE-STRUCTURED-LOCATION;VALUE=URI;X-ADDRESS=Inglewood Bird Sanctuary 2425 9 Ave SE Calgary Alberta T2G 4T4 Canada;X-APPLE-RADIUS=500;X-TITLE=2425 9 Ave SE:geo:-114.00986,51.0301705
END:VEVENT
BEGIN:VEVENT
DTSTART;TZID=America/Edmonton:20230923T090000
DTEND;TZID=America/Edmonton:20230923T090000
DTSTAMP:20260419T102752
CREATED:20230813T060709Z
LAST-MODIFIED:20230813T060732Z
UID:10000788-1695459600-1695459600@naturecalgary.com
SUMMARY:Many Springs in Bow Valley
DESCRIPTION:Trip to Many Springs in Bow Valley Provincial Park. Meet at 8:00 am at the tennis courts at Shouldice Park at 9:00 am.  Please register with leader Penny Smith at 403-249-5997 or 403-807-8137 or please email oban2010mull@hotmail.com
URL:https://naturecalgary.com/event/many-springs-in-bow-valley/
LOCATION:Alberta\, Canada
CATEGORIES:Field Trips
GEO:53.9332706;-116.5765035
END:VEVENT
BEGIN:VEVENT
DTSTART;TZID=America/Edmonton:20230922T093000
DTEND;TZID=America/Edmonton:20230922T113000
DTSTAMP:20260419T102752
CREATED:20230321T014329Z
LAST-MODIFIED:20230321T015525Z
UID:10000444-1695375000-1695382200@naturecalgary.com
SUMMARY:Birding On St. Patrick's Island
DESCRIPTION:Join Nature Calgary for a bird walk on St. Patrick’s Island to observe the fascinating variety of birds found in their natural habitat. You may have the opportunity to see Bald Eagles\, Gulls\, and Woodpeckers\, among other species. St. Patrick’s Island offers a picturesque setting for this event. \nOur knowledgeable guide will share fascinating insights about the birds you encounter and their behaviours\, making this a great educational opportunity for nature enthusiasts of all ages. \nWe will have binoculars available for participants who don’t have them. Space is limited so don’t miss your chance to discover the beauty and diversity of Calgary’s birdlife on this exciting bird walk! \nThese walks are presented in partnership between East Village and Nature Calgary\, with all registration fees being donated directly to Nature Calgary. \nAll walks will start and end at East Village Headquarters\, located directly north of 656 Confluence Way SE on the RiverWalk pathway. \nThe upcoming birding event is accessible to all\, regardless of age or ability. \n\nThe pathways are flat. Some pathways are unpaved but they are well compacted.\nNature Calgary has taken measures to accommodate those with sight or hearing impairments\nGuides are knowledgeable about bird calls to assist those with sight impairments\nSight cues will be available for those with hearing impairments\nDogs are not allowed at the event unless medically necessary. This helps ensure the safety and comfort of the wildlife\nThe event is LGBTQ+ friendly\, welcoming people of all orientations and identities.\n\nRegister Here
URL:https://naturecalgary.com/event/birding-on-st-patricks-island-10/
LOCATION:East Village Headquarters\, 656 Confluence Way SE\, Calgary\, Alberta\, T2G 0G1\, Canada
CATEGORIES:Field Trips
GEO:51.04748;-114.04872
X-APPLE-STRUCTURED-LOCATION;VALUE=URI;X-ADDRESS=East Village Headquarters 656 Confluence Way SE Calgary Alberta T2G 0G1 Canada;X-APPLE-RADIUS=500;X-TITLE=656 Confluence Way SE:geo:-114.04872,51.04748
END:VEVENT
END:VCALENDAR