BEGIN:VCALENDAR
VERSION:2.0
PRODID:-//Nature Calgary - ECPv6.15.20//NONSGML v1.0//EN
CALSCALE:GREGORIAN
METHOD:PUBLISH
X-ORIGINAL-URL:https://naturecalgary.com
X-WR-CALDESC:Events for Nature Calgary
REFRESH-INTERVAL;VALUE=DURATION:PT1H
X-Robots-Tag:noindex
X-PUBLISHED-TTL:PT1H
BEGIN:VTIMEZONE
TZID:America/Edmonton
BEGIN:DAYLIGHT
TZOFFSETFROM:-0700
TZOFFSETTO:-0600
TZNAME:MDT
DTSTART:20250309T090000
END:DAYLIGHT
BEGIN:STANDARD
TZOFFSETFROM:-0600
TZOFFSETTO:-0700
TZNAME:MST
DTSTART:20251102T080000
END:STANDARD
BEGIN:DAYLIGHT
TZOFFSETFROM:-0700
TZOFFSETTO:-0600
TZNAME:MDT
DTSTART:20260308T090000
END:DAYLIGHT
BEGIN:STANDARD
TZOFFSETFROM:-0600
TZOFFSETTO:-0700
TZNAME:MST
DTSTART:20261101T080000
END:STANDARD
BEGIN:DAYLIGHT
TZOFFSETFROM:-0700
TZOFFSETTO:-0600
TZNAME:MDT
DTSTART:20270314T090000
END:DAYLIGHT
BEGIN:STANDARD
TZOFFSETFROM:-0600
TZOFFSETTO:-0700
TZNAME:MST
DTSTART:20271107T080000
END:STANDARD
END:VTIMEZONE
BEGIN:VEVENT
DTSTART;TZID=America/Edmonton:20260419T093000
DTEND;TZID=America/Edmonton:20260419T113000
DTSTAMP:20260419T085234
CREATED:20260307T210122Z
LAST-MODIFIED:20260307T210137Z
UID:10001111-1776591000-1776598200@naturecalgary.com
SUMMARY:Birding on St. Patrick's Island
DESCRIPTION:Join Nature Calgary for a birding walk on St. Patrick’s Island. All event information is available on Eventbrite. Nature Calgary members get 50% off with the code NCMember.
URL:https://naturecalgary.com/event/birding-on-st-patricks-island-38/
LOCATION:St. Patrick’s Island (656 Confluence Way SE\, Calgary\, AB T2G 0G1)\, 656 Confluence Way SE\, Calgary\, Alberta\, T2G0G1\, Canada
CATEGORIES:Birding,Field Trips
END:VEVENT
BEGIN:VEVENT
DTSTART;TZID=America/Edmonton:20260422T080000
DTEND;TZID=America/Edmonton:20260422T120000
DTSTAMP:20260419T085234
CREATED:20260418T194103Z
LAST-MODIFIED:20260418T194154Z
UID:10001145-1776844800-1776859200@naturecalgary.com
SUMMARY:Glenbow Ranch Birding Golf Cart Tour
DESCRIPTION:Discover the wild beauty of Glenbow Ranch Provincial Park — where rolling foothills\, whispering fescue grasslands\, sparkling wetlands\, and hidden wooded groves come together in one spectacular natural mosaic! 🌾🦆 \nThe only catch? The best birding hotspots are often a bit of a trek. \nThat’s where the adventure gets even better! Hop aboard one of our birding golf cart tours and glide comfortably through the park’s most rewarding locations. \nRegister here. \nNature Calgary members save 25% with the code naturecalgary
URL:https://naturecalgary.com/event/glenbow-ranch-birding-golf-cart-tour/
LOCATION:Alberta
CATEGORIES:Birding
END:VEVENT
BEGIN:VEVENT
DTSTART;TZID=America/Edmonton:20260423T083000
DTEND;TZID=America/Edmonton:20260423T103000
DTSTAMP:20260419T085234
CREATED:20260331T151316Z
LAST-MODIFIED:20260331T151316Z
UID:10001128-1776933000-1776940200@naturecalgary.com
SUMMARY:Inglewood Bird Sanctuary
DESCRIPTION:Please join us at The Inglewood Bird Sanctuary on April 23 from 8:30am to 10:30pm. With the lagoon\, river and woodland in this park\, we expect to see a variety of birds. Migration is in full swing and there are always surprises. The pathways are fully accessible and the walk is suitable for all abilities. Please register with the leader.
URL:https://naturecalgary.com/event/inglewood-bird-sanctuary-42/
LOCATION:Inglewood Bird Sanctuary\, 2425 9 Ave SE\, Calgary\, Alberta\, T2G 4T4\, Canada
CATEGORIES:Birding,Field Trips,Nature Calgary
ORGANIZER;CN="Anne Belton":MAILTO:ibelton@telus.net
GEO:51.0301705;-114.00986
X-APPLE-STRUCTURED-LOCATION;VALUE=URI;X-ADDRESS=Inglewood Bird Sanctuary 2425 9 Ave SE Calgary Alberta T2G 4T4 Canada;X-APPLE-RADIUS=500;X-TITLE=2425 9 Ave SE:geo:-114.00986,51.0301705
END:VEVENT
BEGIN:VEVENT
DTSTART;VALUE=DATE:20260424
DTEND;VALUE=DATE:20260428
DTSTAMP:20260419T085234
CREATED:20260209T004600Z
LAST-MODIFIED:20260404T174126Z
UID:10001102-1776988800-1777334399@naturecalgary.com
SUMMARY:City Nature Challenge Calgary 2026
DESCRIPTION:Join the world’s largest citizen science event! Learn more here and find all the events happening in Calgary here!
URL:https://naturecalgary.com/event/city-nature-challenge-calgary-2026/
LOCATION:Alberta
CATEGORIES:Birding,Field Trips,Nature Calgary
END:VEVENT
BEGIN:VEVENT
DTSTART;TZID=America/Edmonton:20260424T090000
DTEND;TZID=America/Edmonton:20260424T110000
DTSTAMP:20260419T085234
CREATED:20260325T182229Z
LAST-MODIFIED:20260325T183238Z
UID:10001114-1777021200-1777028400@naturecalgary.com
SUMMARY:West Nose Creek Park (Confluence Park)
DESCRIPTION:A field trip in cooperation between Nature Calgary and Bird Friendly Alberta led by John McFaul. Friday\, April 24: West Nose Creek Park\, starting at parking near Beddington Trail & Beddington Blvd NE. Start time is 9:00 AM end time near 11:00 AM There are no bathroom facilities in the park and much of the trip with be off paved trails and unlevel.
URL:https://naturecalgary.com/event/west-nose-creek-park-confluence-park/
LOCATION:Confluence Park\, 300 Beddington Blvd NE\, Calgary\, Alberta\, Canada
CATEGORIES:Birding,Botany,Field Trips,Nature Calgary
ORGANIZER;CN="John McFaul":MAILTO:alpglow@telus.net
GEO:51.128111;-114.052118
X-APPLE-STRUCTURED-LOCATION;VALUE=URI;X-ADDRESS=Confluence Park 300 Beddington Blvd NE Calgary Alberta Canada;X-APPLE-RADIUS=500;X-TITLE=300 Beddington Blvd NE:geo:-114.052118,51.128111
END:VEVENT
BEGIN:VEVENT
DTSTART;TZID=America/Edmonton:20260424T090000
DTEND;TZID=America/Edmonton:20260424T120000
DTSTAMP:20260419T085234
CREATED:20260328T213047Z
LAST-MODIFIED:20260407T231428Z
UID:10001122-1777021200-1777032000@naturecalgary.com
SUMMARY:Carburn Park Nature Walk
DESCRIPTION:April 24\, 2026  Join me at Carburn Park to take park in the City Nature Challenge.  We will be looking for signs of spring and making iNaturalist observations at add to this international weekend Bioblitz.  Time 9 am – 12 pm.  Please register with Sandy at rockhill29@shaw.ca.
URL:https://naturecalgary.com/event/carburn-park-nature-walk/
LOCATION:Carburn Park\, 67 Riverview Dr. S.E.\, Calgary\, Alberta\, T2C4H8\, Canada
CATEGORIES:Botany,Field Trips,Nature Calgary
ORGANIZER;CN="Sandra Scott":MAILTO:Rockhill29@shaw.ca
GEO:50.973327;-114.026105
X-APPLE-STRUCTURED-LOCATION;VALUE=URI;X-ADDRESS=Carburn Park 67 Riverview Dr. S.E. Calgary Alberta T2C4H8 Canada;X-APPLE-RADIUS=500;X-TITLE=67 Riverview Dr. S.E.:geo:-114.026105,50.973327
END:VEVENT
BEGIN:VEVENT
DTSTART;TZID=America/Edmonton:20260425T090000
DTEND;TZID=America/Edmonton:20260425T110000
DTSTAMP:20260419T085234
CREATED:20260325T183122Z
LAST-MODIFIED:20260325T183122Z
UID:10001115-1777107600-1777114800@naturecalgary.com
SUMMARY:Nose Hill: 64 Ave and 14 Street NW
DESCRIPTION:A field trip in cooperation between Nature Calgary and Bird Friendly Alberta led by John McFaul. Nose Hill\, 64 Ave & 14 Street NW at parking lot near 64 Ave & 14 Street NW. Start time is 9:00 AM end time near 11:00 AM.  There are no bathroom facilities in the park and much of the trip with be off paved trails and unlevel.
URL:https://naturecalgary.com/event/nose-hill-64-ave-and-14-street-nw/
LOCATION:Nose Hill – 64 Ave and 14 St Parking Lot\, 6465 14 St NW\, Calgary\, Alberta\, T2K 5R2\, Canada
CATEGORIES:Birding,Botany,Field Trips,Nature Calgary
ORGANIZER;CN="John McFaul":MAILTO:alpglow@telus.net
GEO:51.1087389;-114.0843735
X-APPLE-STRUCTURED-LOCATION;VALUE=URI;X-ADDRESS=Nose Hill – 64 Ave and 14 St Parking Lot 6465 14 St NW Calgary Alberta T2K 5R2 Canada;X-APPLE-RADIUS=500;X-TITLE=6465 14 St NW:geo:-114.0843735,51.1087389
END:VEVENT
BEGIN:VEVENT
DTSTART;TZID=America/Edmonton:20260425T090000
DTEND;TZID=America/Edmonton:20260425T113000
DTSTAMP:20260419T085234
CREATED:20260326T185123Z
LAST-MODIFIED:20260326T185123Z
UID:10001118-1777107600-1777116600@naturecalgary.com
SUMMARY:North Glenmore
DESCRIPTION:This is a wonderful Field Trip. We start at Parking Lot C at 9:00am and follow the reservoir for the first bit before heading away from the shore. Because of the combined reservoir\, wetland\, plus spruce trees we see quite a variety of birds and mammals; all year long. The trip is suitable for most abilities\, but not for wheelchairs or walkers. We are off the paved bike path for most of the trip. There are lots of benches to take a rest. There are port-a-potties on most of the parking lots and heated bathrooms at the north-east corner of the park. Last Saturday of each month at North Glenmore Park. Generally a two hour field trip at a comfortable pace. Register with leader: Penny Smith (403 807-8137).
URL:https://naturecalgary.com/event/north-glenmore-9/
LOCATION:North Glenmore Park (Parking Lot C)
CATEGORIES:Birding,Field Trips,Nature Calgary
GEO:50.986465;-114.124046
END:VEVENT
BEGIN:VEVENT
DTSTART;TZID=America/Edmonton:20260425T093000
DTEND;TZID=America/Edmonton:20260425T113000
DTSTAMP:20260419T085234
CREATED:20260307T210505Z
LAST-MODIFIED:20260307T210527Z
UID:10001112-1777109400-1777116600@naturecalgary.com
SUMMARY:Biodiversity Walk on St. Patrick's Island
DESCRIPTION:Come and help us document nature during our Biodiversity Walks! This event will take place during the City Nature Challenge and will help us document nature throughout St. Patrick’s Island. We encourage you to photograph and document flora and fauna on the island using the iNaturalist app. \nAll event info is available on Eventbrite. Members get 50% off with the code NCMember.
URL:https://naturecalgary.com/event/20588/
LOCATION:St. Patrick’s Island (656 Confluence Way SE\, Calgary\, AB T2G 0G1)\, 656 Confluence Way SE\, Calgary\, Alberta\, T2G0G1\, Canada
CATEGORIES:Birding,Field Trips,Public Events
END:VEVENT
BEGIN:VEVENT
DTSTART;TZID=America/Edmonton:20260426T090000
DTEND;TZID=America/Edmonton:20260426T113000
DTSTAMP:20260419T085234
CREATED:20260325T220735Z
LAST-MODIFIED:20260325T235440Z
UID:10001117-1777194000-1777203000@naturecalgary.com
SUMMARY:Carburn Park
DESCRIPTION:This is a field trip at one of Calgary’s best birding sites. The day will be spent on both paved and graveled paths\, so good footwear is required. The pace will be suitable for all ability levels\, although walkers and wheel chairs will not function on some of the paths. There is good parking and good bathroom facilities. We will start at 0900 and plan to be back to the parking lot by 1130. The paths may be muddy\, but surely winter is over and spikes will not be needed.  Please dress for the weather. Please contact the leader for registration. As the weather can quickly change\, please check back here if the weather changes and with the leader to ensure the field trip goes forward.
URL:https://naturecalgary.com/event/carburn-park-8-2/
LOCATION:Carburn Park\, 67 Riverview Dr. S.E.\, Calgary\, Alberta\, T2C4H8\, Canada
CATEGORIES:Birding,Field Trips,Nature Calgary
ORGANIZER;CN="Nimali Seneviratne":MAILTO:ntfern@telus.net
GEO:50.973327;-114.026105
X-APPLE-STRUCTURED-LOCATION;VALUE=URI;X-ADDRESS=Carburn Park 67 Riverview Dr. S.E. Calgary Alberta T2C4H8 Canada;X-APPLE-RADIUS=500;X-TITLE=67 Riverview Dr. S.E.:geo:-114.026105,50.973327
END:VEVENT
BEGIN:VEVENT
DTSTART;TZID=America/Edmonton:20260430T103000
DTEND;TZID=America/Edmonton:20260430T103000
DTSTAMP:20260419T085234
CREATED:20260331T151858Z
LAST-MODIFIED:20260331T151858Z
UID:10001129-1777545000-1777545000@naturecalgary.com
SUMMARY:Lafarge Meadows: Boat Launch
DESCRIPTION:Let’s end April with a wonderful field trip on April 30 from 8:30am to 10:30am at Lafarge Meadows\, meet at boat launch. The pit toilets should be open by the end of April and easy parking is available. Some of the field trip with be off the pave path\, so please dress for the weather and bring good footwear. The trail is all level. Please register with the leader.
URL:https://naturecalgary.com/event/lafarge-meadows-boat-launch-4/
LOCATION:Fish Creek Provincial Park – Boat Launch Parking Lot (Bow Bottom Trail)\, Alberta\, Canada
CATEGORIES:Birding,Field Trips,Nature Calgary
ORGANIZER;CN="Anne Belton":MAILTO:ibelton@telus.net
GEO:50.897959;-114.011297
END:VEVENT
BEGIN:VEVENT
DTSTART;TZID=America/Edmonton:20260502T123000
DTEND;TZID=America/Edmonton:20260502T153000
DTSTAMP:20260419T085234
CREATED:20260418T192020Z
LAST-MODIFIED:20260418T192020Z
UID:10001144-1777725000-1777735800@naturecalgary.com
SUMMARY:Legacy Land Trust Society Event: Tree Swallows
DESCRIPTION:TREE SWALLOWS: Canaries in the Coal Mine? \nLegacy Land Trust Society is pleased to invite you to an afternoon with Dr. Geoff Holroyd\, Chair of Alberta’s Beaverhill Bird Observatory (BBO). BBO has monitored and studied nesting Tree Swallows on the south shore of Beaverhill Lake since 1984. \nDr. Holroyd will put his research on Peregrine Falcons and Tree Swallows into the context of current declines of most birds in North America\, along with the history of birds as environmental sentinels. \nClick here for more details and to register for this free event.
URL:https://naturecalgary.com/event/legacy-land-trust-society-event-tree-swallows/
LOCATION:Alberta
CATEGORIES:Birding
END:VEVENT
BEGIN:VEVENT
DTSTART;VALUE=DATE:20260509
DTEND;VALUE=DATE:20260510
DTSTAMP:20260419T085235
CREATED:20260328T193147Z
LAST-MODIFIED:20260328T193147Z
UID:10001119-1778284800-1778371199@naturecalgary.com
SUMMARY:World Migratory Bird Day
DESCRIPTION:Learn more at birdday.ca.
URL:https://naturecalgary.com/event/world-migratory-bird-day/
LOCATION:Alberta
END:VEVENT
BEGIN:VEVENT
DTSTART;TZID=America/Edmonton:20260509T093000
DTEND;TZID=America/Edmonton:20260509T113000
DTSTAMP:20260419T085235
CREATED:20260411T164826Z
LAST-MODIFIED:20260411T165654Z
UID:10001131-1778319000-1778326200@naturecalgary.com
SUMMARY:Birding on St. Patrick's Island
DESCRIPTION:Join Nature Calgary for a birding walk on St. Patrick’s Island to celebrate World Migratory Bird Day. All event information is available on Eventbrite. Nature Calgary members get 50% off with the code NCMember.
URL:https://naturecalgary.com/event/birding-on-st-patricks-island-39/
LOCATION:St. Patrick’s Island (656 Confluence Way SE\, Calgary\, AB T2G 0G1)\, 656 Confluence Way SE\, Calgary\, Alberta\, T2G0G1\, Canada
CATEGORIES:Birding,Field Trips
END:VEVENT
BEGIN:VEVENT
DTSTART;TZID=America/Edmonton:20260510T080000
DTEND;TZID=America/Edmonton:20260510T120000
DTSTAMP:20260419T085235
CREATED:20260418T194254Z
LAST-MODIFIED:20260418T194345Z
UID:10001146-1778400000-1778414400@naturecalgary.com
SUMMARY:Glenbow Ranch Birding Golf Cart Tour
DESCRIPTION:Discover the wild beauty of Glenbow Ranch Provincial Park — where rolling foothills\, whispering fescue grasslands\, sparkling wetlands\, and hidden wooded groves come together in one spectacular natural mosaic! 🌾🦆 \nThe only catch? The best birding hotspots are often a bit of a trek. \nThat’s where the adventure gets even better! Hop aboard one of our birding golf cart tours and glide comfortably through the park’s most rewarding locations. \nRegister here. \nNature Calgary members save 25% with the code naturecalgary
URL:https://naturecalgary.com/event/glenbow-ranch-birding-golf-cart-tour-2/
LOCATION:Alberta
CATEGORIES:Birding
END:VEVENT
BEGIN:VEVENT
DTSTART;TZID=America/Edmonton:20260510T090000
DTEND;TZID=America/Edmonton:20260510T120000
DTSTAMP:20260419T085235
CREATED:20260328T213229Z
LAST-MODIFIED:20260328T213229Z
UID:10001123-1778403600-1778414400@naturecalgary.com
SUMMARY:Carburn Park Plant and Nature Walk
DESCRIPTION:May 10\, 2026  Plant and nature walk at Carburn Park from 9 am -12 pm.   Please register with Sandy at rockhill29@shaw.ca
URL:https://naturecalgary.com/event/carburn-park-plant-and-nature-walk/
LOCATION:Carburn Park\, 67 Riverview Dr. S.E.\, Calgary\, Alberta\, T2C4H8\, Canada
CATEGORIES:Botany,Field Trips,Nature Calgary
ORGANIZER;CN="Sandra Scott":MAILTO:Rockhill29@shaw.ca
GEO:50.973327;-114.026105
X-APPLE-STRUCTURED-LOCATION;VALUE=URI;X-ADDRESS=Carburn Park 67 Riverview Dr. S.E. Calgary Alberta T2C4H8 Canada;X-APPLE-RADIUS=500;X-TITLE=67 Riverview Dr. S.E.:geo:-114.026105,50.973327
END:VEVENT
BEGIN:VEVENT
DTSTART;TZID=America/Edmonton:20260512T103000
DTEND;TZID=America/Edmonton:20260512T120000
DTSTAMP:20260419T085235
CREATED:20260302T212232Z
LAST-MODIFIED:20260302T212232Z
UID:10001108-1778581800-1778587200@naturecalgary.com
SUMMARY:Creekside Shopping Centre: Wetlands
DESCRIPTION:The Creekside Shopping Centre management (Choice Properties) has invited Nature Calgary to lead field trips from their location. This is a fairly new birding area with a nice wetlands just north of the mall.  We will start and end at the Community Patio. The patio is tucked between the Joso’s Play & Learn Centre and the Chatters Hair Salon\, about the middle of the south-east part on the north side. The wetlands offers a variety of birds and mammals. At this time of year the birding is good because the birds are migrating and arriving in Calgary. We will start at 10:30 am for a 90 minute trip. Our leader (Bernie Diebolt) is quite familiar with the area. Please register in advance with the field trip leader.
URL:https://naturecalgary.com/event/creekside-shopping-centre-wetlands/
LOCATION:Creekside Shopping Centre: Wetlands\, 12432 Symons Valley Rd NW\, Calgary\, Alberta\, T3P 0A3\, Canada
CATEGORIES:Birding,Field Trips,Nature Calgary
ORGANIZER;CN="Bernie Diebolt":MAILTO:bdiebolt@gmail.com
GEO:51.1623887;-114.1236189
X-APPLE-STRUCTURED-LOCATION;VALUE=URI;X-ADDRESS=Creekside Shopping Centre: Wetlands 12432 Symons Valley Rd NW Calgary Alberta T3P 0A3 Canada;X-APPLE-RADIUS=500;X-TITLE=12432 Symons Valley Rd NW:geo:-114.1236189,51.1623887
END:VEVENT
BEGIN:VEVENT
DTSTART;TZID=America/Edmonton:20260517T093000
DTEND;TZID=America/Edmonton:20260517T113000
DTSTAMP:20260419T085235
CREATED:20260411T165613Z
LAST-MODIFIED:20260411T165613Z
UID:10001132-1779010200-1779017400@naturecalgary.com
SUMMARY:Birding on St. Patrick's Island
DESCRIPTION:Join Nature Calgary for a birding walk on St. Patrick’s Island. All event information is available on Eventbrite. Nature Calgary members get 50% off with the code NCMember.
URL:https://naturecalgary.com/event/birding-on-st-patricks-island-40/
LOCATION:St. Patrick’s Island (656 Confluence Way SE\, Calgary\, AB T2G 0G1)\, 656 Confluence Way SE\, Calgary\, Alberta\, T2G0G1\, Canada
CATEGORIES:Birding,Field Trips
END:VEVENT
BEGIN:VEVENT
DTSTART;TZID=America/Edmonton:20260525T080000
DTEND;TZID=America/Edmonton:20260525T120000
DTSTAMP:20260419T085235
CREATED:20260418T194423Z
LAST-MODIFIED:20260418T194423Z
UID:10001148-1779696000-1779710400@naturecalgary.com
SUMMARY:Glenbow Ranch Birding Golf Cart Tour
DESCRIPTION:Discover the wild beauty of Glenbow Ranch Provincial Park — where rolling foothills\, whispering fescue grasslands\, sparkling wetlands\, and hidden wooded groves come together in one spectacular natural mosaic! 🌾🦆 \nThe only catch? The best birding hotspots are often a bit of a trek. \nThat’s where the adventure gets even better! Hop aboard one of our birding golf cart tours and glide comfortably through the park’s most rewarding locations. \nRegister here. \nNature Calgary members save 25% with the code naturecalgary
URL:https://naturecalgary.com/event/glenbow-ranch-birding-golf-cart-tour-3/
LOCATION:Alberta
CATEGORIES:Birding
END:VEVENT
BEGIN:VEVENT
DTSTART;TZID=America/Edmonton:20260528T090000
DTEND;TZID=America/Edmonton:20260528T120000
DTSTAMP:20260419T085235
CREATED:20260328T213404Z
LAST-MODIFIED:20260328T213404Z
UID:10001124-1779958800-1779969600@naturecalgary.com
SUMMARY:Carburn Park May Plant Count
DESCRIPTION:May 28\, 2026  May Plant Count project.  This is a project with Nature Alberta from May 25-31.  We will be documenting the plants of Carburn Park using iNaturalist.  Time 9 am -12 pm\, please register with Sandy at rockhill29@shaw.ca
URL:https://naturecalgary.com/event/carburn-park-may-plant-count/
LOCATION:Carburn Park\, 67 Riverview Dr. S.E.\, Calgary\, Alberta\, T2C4H8\, Canada
CATEGORIES:Botany,Field Trips,Nature Calgary
ORGANIZER;CN="Sandra Scott":MAILTO:Rockhill29@shaw.ca
GEO:50.973327;-114.026105
X-APPLE-STRUCTURED-LOCATION;VALUE=URI;X-ADDRESS=Carburn Park 67 Riverview Dr. S.E. Calgary Alberta T2C4H8 Canada;X-APPLE-RADIUS=500;X-TITLE=67 Riverview Dr. S.E.:geo:-114.026105,50.973327
END:VEVENT
BEGIN:VEVENT
DTSTART;TZID=America/Edmonton:20260529T090000
DTEND;TZID=America/Edmonton:20260529T120000
DTSTAMP:20260419T085235
CREATED:20260328T213541Z
LAST-MODIFIED:20260328T213541Z
UID:10001125-1780045200-1780056000@naturecalgary.com
SUMMARY:Pearce Estate Park: May Plant Count
DESCRIPTION:May 29\,  2026  May Plant Count project.  This is a project with Nature Alberta from May 25-31.  We will be documenting the plants of Pearce Estate Park using iNaturalist.  Time 9 am – 12 pm\, please register with Sandy at rockhill29@shaw.ca
URL:https://naturecalgary.com/event/pearce-estate-park-may-plant-count/
LOCATION:Pearce Estate Park\, 1440 17A St. S.E.\, Calgary\, Alberta\, Canada
CATEGORIES:Botany,Field Trips,Nature Calgary
ORGANIZER;CN="Sandra Scott":MAILTO:Rockhill29@shaw.ca
GEO:51.0421891;-114.0179186
X-APPLE-STRUCTURED-LOCATION;VALUE=URI;X-ADDRESS=Pearce Estate Park 1440 17A St. S.E. Calgary Alberta Canada;X-APPLE-RADIUS=500;X-TITLE=1440 17A St. S.E.:geo:-114.0179186,51.0421891
END:VEVENT
BEGIN:VEVENT
DTSTART;TZID=America/Edmonton:20260530T093000
DTEND;TZID=America/Edmonton:20260530T113000
DTSTAMP:20260419T085235
CREATED:20260411T170834Z
LAST-MODIFIED:20260411T170834Z
UID:10001141-1780133400-1780140600@naturecalgary.com
SUMMARY:Invasive Species Removal on St. Patrick's Island
DESCRIPTION:Join Nature Calgary as we remove invasive species on St. Patrick’s Island. All event information is available on Eventbrite. This event is free!
URL:https://naturecalgary.com/event/invasive-species-removal-on-st-patricks-island/
LOCATION:St. Patrick’s Island (656 Confluence Way SE\, Calgary\, AB T2G 0G1)\, 656 Confluence Way SE\, Calgary\, Alberta\, T2G0G1\, Canada
CATEGORIES:Botany
END:VEVENT
BEGIN:VEVENT
DTSTART;TZID=America/Edmonton:20260531T093000
DTEND;TZID=America/Edmonton:20260531T113000
DTSTAMP:20260419T085235
CREATED:20260418T195740Z
LAST-MODIFIED:20260418T195740Z
UID:10001157-1780219800-1780227000@naturecalgary.com
SUMMARY:Native Plant Walk on St. Patrick's Island
DESCRIPTION:Join Nature Calgary for a native plant walk on St. Patrick’s Island. All event information is available on Eventbrite. Nature Calgary members get 50% off with the code NCMember.
URL:https://naturecalgary.com/event/native-plant-walk-on-st-patricks-island/
LOCATION:St. Patrick’s Island (656 Confluence Way SE\, Calgary\, AB T2G 0G1)\, 656 Confluence Way SE\, Calgary\, Alberta\, T2G0G1\, Canada
CATEGORIES:Botany,Field Trips
END:VEVENT
BEGIN:VEVENT
DTSTART;TZID=America/Edmonton:20260606T080000
DTEND;TZID=America/Edmonton:20260606T120000
DTSTAMP:20260419T085235
CREATED:20260418T194641Z
LAST-MODIFIED:20260418T194641Z
UID:10001147-1780732800-1780747200@naturecalgary.com
SUMMARY:Glenbow Ranch Birding Golf Cart Tour
DESCRIPTION:Discover the wild beauty of Glenbow Ranch Provincial Park — where rolling foothills\, whispering fescue grasslands\, sparkling wetlands\, and hidden wooded groves come together in one spectacular natural mosaic! 🌾🦆 \nThe only catch? The best birding hotspots are often a bit of a trek. \nThat’s where the adventure gets even better! Hop aboard one of our birding golf cart tours and glide comfortably through the park’s most rewarding locations. \nRegister here. \nNature Calgary members save 25% with the code naturecalgary
URL:https://naturecalgary.com/event/glenbow-ranch-birding-golf-cart-tour-4/
LOCATION:Alberta
CATEGORIES:Birding
END:VEVENT
BEGIN:VEVENT
DTSTART;TZID=America/Edmonton:20260607T093000
DTEND;TZID=America/Edmonton:20260607T113000
DTSTAMP:20260419T085235
CREATED:20260411T170917Z
LAST-MODIFIED:20260411T170917Z
UID:10001142-1780824600-1780831800@naturecalgary.com
SUMMARY:Invasive Species Removal on St. Patrick's Island
DESCRIPTION:Join Nature Calgary as we remove invasive species on St. Patrick’s Island. All event information is available on Eventbrite. This event is free!
URL:https://naturecalgary.com/event/invasive-species-removal-on-st-patricks-island-2/
LOCATION:St. Patrick’s Island (656 Confluence Way SE\, Calgary\, AB T2G 0G1)\, 656 Confluence Way SE\, Calgary\, Alberta\, T2G0G1\, Canada
CATEGORIES:Botany
END:VEVENT
BEGIN:VEVENT
DTSTART;TZID=America/Edmonton:20260613T093000
DTEND;TZID=America/Edmonton:20260613T113000
DTSTAMP:20260419T085235
CREATED:20260418T195959Z
LAST-MODIFIED:20260418T195959Z
UID:10001159-1781343000-1781350200@naturecalgary.com
SUMMARY:Biodiversity Walk on St. Patrick's Island
DESCRIPTION:Come and help us document nature during our Biodiversity Walks! This event will take place during the Alberta Biodiversity Challenge and will help us document nature throughout St. Patrick’s Island. We encourage you to photograph and document flora and fauna on the island using the iNaturalist app. \nAll event info is available on Eventbrite. Members get 50% off with the code NCMember.
URL:https://naturecalgary.com/event/biodiversity-walk-on-st-patricks-island/
LOCATION:St. Patrick’s Island (656 Confluence Way SE\, Calgary\, AB T2G 0G1)\, 656 Confluence Way SE\, Calgary\, Alberta\, T2G0G1\, Canada
CATEGORIES:Birding,Botany,Field Trips,Public Events
END:VEVENT
BEGIN:VEVENT
DTSTART;TZID=America/Edmonton:20260620T093000
DTEND;TZID=America/Edmonton:20260620T113000
DTSTAMP:20260419T085235
CREATED:20260411T165844Z
LAST-MODIFIED:20260411T165844Z
UID:10001133-1781947800-1781955000@naturecalgary.com
SUMMARY:Birding on St. Patrick's Island
DESCRIPTION:Join Nature Calgary for a birding walk on St. Patrick’s Island. All event information is available on Eventbrite. Nature Calgary members get 50% off with the code NCMember.
URL:https://naturecalgary.com/event/birding-on-st-patricks-island-41/
LOCATION:St. Patrick’s Island (656 Confluence Way SE\, Calgary\, AB T2G 0G1)\, 656 Confluence Way SE\, Calgary\, Alberta\, T2G0G1\, Canada
CATEGORIES:Birding,Field Trips
END:VEVENT
BEGIN:VEVENT
DTSTART;TZID=America/Edmonton:20260623T080000
DTEND;TZID=America/Edmonton:20260623T120000
DTSTAMP:20260419T085235
CREATED:20260418T194820Z
LAST-MODIFIED:20260418T194820Z
UID:10001150-1782201600-1782216000@naturecalgary.com
SUMMARY:Glenbow Ranch Birding Golf Cart Tour
DESCRIPTION:Discover the wild beauty of Glenbow Ranch Provincial Park — where rolling foothills\, whispering fescue grasslands\, sparkling wetlands\, and hidden wooded groves come together in one spectacular natural mosaic! 🌾🦆 \nThe only catch? The best birding hotspots are often a bit of a trek. \nThat’s where the adventure gets even better! Hop aboard one of our birding golf cart tours and glide comfortably through the park’s most rewarding locations. \nRegister here. \nNature Calgary members save 25% with the code naturecalgary
URL:https://naturecalgary.com/event/glenbow-ranch-birding-golf-cart-tour-6/
LOCATION:Alberta
CATEGORIES:Birding
END:VEVENT
BEGIN:VEVENT
DTSTART;TZID=America/Edmonton:20260712T080000
DTEND;TZID=America/Edmonton:20260712T120000
DTSTAMP:20260419T085235
CREATED:20260418T194733Z
LAST-MODIFIED:20260418T194733Z
UID:10001149-1783843200-1783857600@naturecalgary.com
SUMMARY:Glenbow Ranch Birding Golf Cart Tour
DESCRIPTION:Discover the wild beauty of Glenbow Ranch Provincial Park — where rolling foothills\, whispering fescue grasslands\, sparkling wetlands\, and hidden wooded groves come together in one spectacular natural mosaic! 🌾🦆 \nThe only catch? The best birding hotspots are often a bit of a trek. \nThat’s where the adventure gets even better! Hop aboard one of our birding golf cart tours and glide comfortably through the park’s most rewarding locations. \nRegister here. \nNature Calgary members save 25% with the code naturecalgary
URL:https://naturecalgary.com/event/glenbow-ranch-birding-golf-cart-tour-5/
LOCATION:Alberta
CATEGORIES:Birding
END:VEVENT
BEGIN:VEVENT
DTSTART;TZID=America/Edmonton:20260715T090000
DTEND;TZID=America/Edmonton:20260715T120000
DTSTAMP:20260419T085235
CREATED:20260418T195243Z
LAST-MODIFIED:20260418T195243Z
UID:10001154-1784106000-1784116800@naturecalgary.com
SUMMARY:Glenbow Ranch Wildflower Golf Cart Tour
DESCRIPTION:Experience the untamed beauty of Glenbow Ranch Provincial Park like never before — on a Wildflower Golf Cart Tour bursting with color and life! 🌸🌾 \nHome to some of the last remaining foothills fescue grasslands\, the park comes alive with vibrant native wildflowers woven through rolling hills\, wetlands\, and shady woodland pockets. \nSome of the most spectacular floral displays are tucked away off the beaten path — but that’s where we come in. Glide comfortably through the park’s most stunning wildflower hotspots\, cover more ground\, and soak in the sweeping views without the long hike. \nRegister here. \nNature Calgary members save 25% with the code naturecalgary
URL:https://naturecalgary.com/event/glenbow-ranch-wildflower-golf-cart-tour/
LOCATION:Alberta
CATEGORIES:Birding
END:VEVENT
END:VCALENDAR