BEGIN:VCALENDAR
VERSION:2.0
PRODID:-//Nature Calgary - ECPv6.15.20//NONSGML v1.0//EN
CALSCALE:GREGORIAN
METHOD:PUBLISH
X-ORIGINAL-URL:https://naturecalgary.com
X-WR-CALDESC:Events for Nature Calgary
REFRESH-INTERVAL;VALUE=DURATION:PT1H
X-Robots-Tag:noindex
X-PUBLISHED-TTL:PT1H
BEGIN:VTIMEZONE
TZID:America/Edmonton
BEGIN:DAYLIGHT
TZOFFSETFROM:-0700
TZOFFSETTO:-0600
TZNAME:MDT
DTSTART:20250309T090000
END:DAYLIGHT
BEGIN:STANDARD
TZOFFSETFROM:-0600
TZOFFSETTO:-0700
TZNAME:MST
DTSTART:20251102T080000
END:STANDARD
BEGIN:DAYLIGHT
TZOFFSETFROM:-0700
TZOFFSETTO:-0600
TZNAME:MDT
DTSTART:20260308T090000
END:DAYLIGHT
BEGIN:STANDARD
TZOFFSETFROM:-0600
TZOFFSETTO:-0700
TZNAME:MST
DTSTART:20261101T080000
END:STANDARD
BEGIN:DAYLIGHT
TZOFFSETFROM:-0700
TZOFFSETTO:-0600
TZNAME:MDT
DTSTART:20270314T090000
END:DAYLIGHT
BEGIN:STANDARD
TZOFFSETFROM:-0600
TZOFFSETTO:-0700
TZNAME:MST
DTSTART:20271107T080000
END:STANDARD
END:VTIMEZONE
BEGIN:VEVENT
DTSTART;TZID=America/Edmonton:20260510T090000
DTEND;TZID=America/Edmonton:20260510T120000
DTSTAMP:20260420T040714
CREATED:20260328T213229Z
LAST-MODIFIED:20260328T213229Z
UID:10001123-1778403600-1778414400@naturecalgary.com
SUMMARY:Carburn Park Plant and Nature Walk
DESCRIPTION:May 10\, 2026  Plant and nature walk at Carburn Park from 9 am -12 pm.   Please register with Sandy at rockhill29@shaw.ca
URL:https://naturecalgary.com/event/carburn-park-plant-and-nature-walk/
LOCATION:Carburn Park\, 67 Riverview Dr. S.E.\, Calgary\, Alberta\, T2C4H8\, Canada
CATEGORIES:Botany,Field Trips,Nature Calgary
ORGANIZER;CN="Sandra Scott":MAILTO:Rockhill29@shaw.ca
GEO:50.973327;-114.026105
X-APPLE-STRUCTURED-LOCATION;VALUE=URI;X-ADDRESS=Carburn Park 67 Riverview Dr. S.E. Calgary Alberta T2C4H8 Canada;X-APPLE-RADIUS=500;X-TITLE=67 Riverview Dr. S.E.:geo:-114.026105,50.973327
END:VEVENT
BEGIN:VEVENT
DTSTART;TZID=America/Edmonton:20260512T103000
DTEND;TZID=America/Edmonton:20260512T120000
DTSTAMP:20260420T040714
CREATED:20260302T212232Z
LAST-MODIFIED:20260302T212232Z
UID:10001108-1778581800-1778587200@naturecalgary.com
SUMMARY:Creekside Shopping Centre: Wetlands
DESCRIPTION:The Creekside Shopping Centre management (Choice Properties) has invited Nature Calgary to lead field trips from their location. This is a fairly new birding area with a nice wetlands just north of the mall.  We will start and end at the Community Patio. The patio is tucked between the Joso’s Play & Learn Centre and the Chatters Hair Salon\, about the middle of the south-east part on the north side. The wetlands offers a variety of birds and mammals. At this time of year the birding is good because the birds are migrating and arriving in Calgary. We will start at 10:30 am for a 90 minute trip. Our leader (Bernie Diebolt) is quite familiar with the area. Please register in advance with the field trip leader.
URL:https://naturecalgary.com/event/creekside-shopping-centre-wetlands/
LOCATION:Creekside Shopping Centre: Wetlands\, 12432 Symons Valley Rd NW\, Calgary\, Alberta\, T3P 0A3\, Canada
CATEGORIES:Birding,Field Trips,Nature Calgary
ORGANIZER;CN="Bernie Diebolt":MAILTO:bdiebolt@gmail.com
GEO:51.1623887;-114.1236189
X-APPLE-STRUCTURED-LOCATION;VALUE=URI;X-ADDRESS=Creekside Shopping Centre: Wetlands 12432 Symons Valley Rd NW Calgary Alberta T3P 0A3 Canada;X-APPLE-RADIUS=500;X-TITLE=12432 Symons Valley Rd NW:geo:-114.1236189,51.1623887
END:VEVENT
BEGIN:VEVENT
DTSTART;TZID=America/Edmonton:20260528T090000
DTEND;TZID=America/Edmonton:20260528T120000
DTSTAMP:20260420T040714
CREATED:20260328T213404Z
LAST-MODIFIED:20260328T213404Z
UID:10001124-1779958800-1779969600@naturecalgary.com
SUMMARY:Carburn Park May Plant Count
DESCRIPTION:May 28\, 2026  May Plant Count project.  This is a project with Nature Alberta from May 25-31.  We will be documenting the plants of Carburn Park using iNaturalist.  Time 9 am -12 pm\, please register with Sandy at rockhill29@shaw.ca
URL:https://naturecalgary.com/event/carburn-park-may-plant-count/
LOCATION:Carburn Park\, 67 Riverview Dr. S.E.\, Calgary\, Alberta\, T2C4H8\, Canada
CATEGORIES:Botany,Field Trips,Nature Calgary
ORGANIZER;CN="Sandra Scott":MAILTO:Rockhill29@shaw.ca
GEO:50.973327;-114.026105
X-APPLE-STRUCTURED-LOCATION;VALUE=URI;X-ADDRESS=Carburn Park 67 Riverview Dr. S.E. Calgary Alberta T2C4H8 Canada;X-APPLE-RADIUS=500;X-TITLE=67 Riverview Dr. S.E.:geo:-114.026105,50.973327
END:VEVENT
BEGIN:VEVENT
DTSTART;TZID=America/Edmonton:20260529T090000
DTEND;TZID=America/Edmonton:20260529T120000
DTSTAMP:20260420T040714
CREATED:20260328T213541Z
LAST-MODIFIED:20260328T213541Z
UID:10001125-1780045200-1780056000@naturecalgary.com
SUMMARY:Pearce Estate Park: May Plant Count
DESCRIPTION:May 29\,  2026  May Plant Count project.  This is a project with Nature Alberta from May 25-31.  We will be documenting the plants of Pearce Estate Park using iNaturalist.  Time 9 am – 12 pm\, please register with Sandy at rockhill29@shaw.ca
URL:https://naturecalgary.com/event/pearce-estate-park-may-plant-count/
LOCATION:Pearce Estate Park\, 1440 17A St. S.E.\, Calgary\, Alberta\, Canada
CATEGORIES:Botany,Field Trips,Nature Calgary
ORGANIZER;CN="Sandra Scott":MAILTO:Rockhill29@shaw.ca
GEO:51.0421891;-114.0179186
X-APPLE-STRUCTURED-LOCATION;VALUE=URI;X-ADDRESS=Pearce Estate Park 1440 17A St. S.E. Calgary Alberta Canada;X-APPLE-RADIUS=500;X-TITLE=1440 17A St. S.E.:geo:-114.0179186,51.0421891
END:VEVENT
END:VCALENDAR