BEGIN:VCALENDAR
VERSION:2.0
PRODID:-//Nature Calgary - ECPv6.15.20//NONSGML v1.0//EN
CALSCALE:GREGORIAN
METHOD:PUBLISH
X-WR-CALNAME:Nature Calgary
X-ORIGINAL-URL:https://naturecalgary.com
X-WR-CALDESC:Events for Nature Calgary
REFRESH-INTERVAL;VALUE=DURATION:PT1H
X-Robots-Tag:noindex
X-PUBLISHED-TTL:PT1H
BEGIN:VTIMEZONE
TZID:America/Edmonton
BEGIN:DAYLIGHT
TZOFFSETFROM:-0700
TZOFFSETTO:-0600
TZNAME:MDT
DTSTART:20250309T090000
END:DAYLIGHT
BEGIN:STANDARD
TZOFFSETFROM:-0600
TZOFFSETTO:-0700
TZNAME:MST
DTSTART:20251102T080000
END:STANDARD
BEGIN:DAYLIGHT
TZOFFSETFROM:-0700
TZOFFSETTO:-0600
TZNAME:MDT
DTSTART:20260308T090000
END:DAYLIGHT
BEGIN:STANDARD
TZOFFSETFROM:-0600
TZOFFSETTO:-0700
TZNAME:MST
DTSTART:20261101T080000
END:STANDARD
BEGIN:DAYLIGHT
TZOFFSETFROM:-0700
TZOFFSETTO:-0600
TZNAME:MDT
DTSTART:20270314T090000
END:DAYLIGHT
BEGIN:STANDARD
TZOFFSETFROM:-0600
TZOFFSETTO:-0700
TZNAME:MST
DTSTART:20271107T080000
END:STANDARD
END:VTIMEZONE
BEGIN:VEVENT
DTSTART;TZID=America/Edmonton:20260419T093000
DTEND;TZID=America/Edmonton:20260419T113000
DTSTAMP:20260419T085855
CREATED:20260307T210122Z
LAST-MODIFIED:20260307T210137Z
UID:10001111-1776591000-1776598200@naturecalgary.com
SUMMARY:Birding on St. Patrick's Island
DESCRIPTION:Join Nature Calgary for a birding walk on St. Patrick’s Island. All event information is available on Eventbrite. Nature Calgary members get 50% off with the code NCMember.
URL:https://naturecalgary.com/event/birding-on-st-patricks-island-38/
LOCATION:St. Patrick’s Island (656 Confluence Way SE\, Calgary\, AB T2G 0G1)\, 656 Confluence Way SE\, Calgary\, Alberta\, T2G0G1\, Canada
CATEGORIES:Birding,Field Trips
END:VEVENT
END:VCALENDAR